BEGIN:VCALENDAR
VERSION:2.0
PRODID:-//HNT - ECPv6.15.20//NONSGML v1.0//EN
CALSCALE:GREGORIAN
METHOD:PUBLISH
X-ORIGINAL-URL:https://h-nt.org
X-WR-CALDESC:Events for HNT
REFRESH-INTERVAL;VALUE=DURATION:PT1H
X-Robots-Tag:noindex
X-PUBLISHED-TTL:PT1H
BEGIN:VTIMEZONE
TZID:America/Los_Angeles
BEGIN:DAYLIGHT
TZOFFSETFROM:-0800
TZOFFSETTO:-0700
TZNAME:PDT
DTSTART:20170312T100000
END:DAYLIGHT
BEGIN:STANDARD
TZOFFSETFROM:-0700
TZOFFSETTO:-0800
TZNAME:PST
DTSTART:20171105T090000
END:STANDARD
BEGIN:DAYLIGHT
TZOFFSETFROM:-0800
TZOFFSETTO:-0700
TZNAME:PDT
DTSTART:20180311T100000
END:DAYLIGHT
BEGIN:STANDARD
TZOFFSETFROM:-0700
TZOFFSETTO:-0800
TZNAME:PST
DTSTART:20181104T090000
END:STANDARD
BEGIN:DAYLIGHT
TZOFFSETFROM:-0800
TZOFFSETTO:-0700
TZNAME:PDT
DTSTART:20190310T100000
END:DAYLIGHT
BEGIN:STANDARD
TZOFFSETFROM:-0700
TZOFFSETTO:-0800
TZNAME:PST
DTSTART:20191103T090000
END:STANDARD
END:VTIMEZONE
BEGIN:VEVENT
DTSTART;TZID=America/Los_Angeles:20180515T180000
DTEND;TZID=America/Los_Angeles:20180515T203000
DTSTAMP:20260421T152103
CREATED:20180322T221305Z
LAST-MODIFIED:20180419T225741Z
UID:20288-1526407200-1526416200@h-nt.org
SUMMARY:Volunteer Appreciation & Annual Meeting
DESCRIPTION:Please RSVP by May 8 at h-nt.org/appreciation \n6:00 PM: Complimentary dinner* \n6:45 PM:    Presentations\nHONOR volunteers and outgoing co-presidents\, Donna Peha & Michele Glasser\, CELEBRATE our community’s achievements and LEARN about the impact still yet to be made. \nA taste of this year’s Social Action projects\nGuest speakers include:\n• Sarah Bustad\, Volunteer Relations Manager for Congregations for the Homeless\n• Gerald Donaldson\, Family Support Worker for Leschi Elementary School\n• Cheryl Kuhn\, Board Chair\, Backpack Meals for Kids\n• Elise DeGooyer\, Co-Director\, Faith Action Network \n7:30 PM:  Annual Meeting\nVote for the 2018-19 Budget and Slate of Officers \n*Please bring goody bag supplies for homeless children’s birthday parties. Bags will be assembled and decorated by HNT volunteers and donated to Birthday Dreams – an organization which is dedicated to bringing joy to homeless children with the gift of a birthday party.
URL:https://h-nt.org/calendar/volunteer-appreciation-annual-meeting/
LOCATION:Feinberg Social Hall
END:VEVENT
BEGIN:VEVENT
DTSTART;TZID=America/Los_Angeles:20180515T183000
DTEND;TZID=America/Los_Angeles:20180515T203000
DTSTAMP:20260421T152103
CREATED:20170927T175559Z
LAST-MODIFIED:20170927T175559Z
UID:14650-1526409000-1526416200@h-nt.org
SUMMARY:American Celebrity & Jewish Identity High School Class
DESCRIPTION:We have crafted a new and innovative class and a trip to Los Angeles for teens based on American Jewish celebrity and Jewish identity formation. Due to the huge success of the NYC trip last year\, generously supported by Gwenn and Dean Polik\, we are excited to be offering a five-day trip experience to LA from April 8-12\, 2018. \nThe trip will be connected to the eight monthly specialized classes taught by Dr. Krigel and guest speakers. A light dinner each session is included in the overall tuition. Please contact Dr. Krigel at eliyahu@h-nt.org for more information. Due to the generosity of Gwenn and Dean Polik\, we are able to provide this program to our members for $1\,550 for the 8 sessions (dinner included) plus transportation\, lodging\, and the entire program for the 5-day trip. The cost for non-HNT members is $2\,550.\nRegister today by going to this link:\nhttps://hnt.wufoo.com/forms/la-trip/ \n 
URL:https://h-nt.org/calendar/american-celebrity-jewish-identity-high-school-class-8/
CATEGORIES:Teen Activities
END:VEVENT
END:VCALENDAR