BEGIN:VCALENDAR
VERSION:2.0
PRODID:-//HNT - ECPv6.15.20//NONSGML v1.0//EN
CALSCALE:GREGORIAN
METHOD:PUBLISH
X-ORIGINAL-URL:https://h-nt.org
X-WR-CALDESC:Events for HNT
REFRESH-INTERVAL;VALUE=DURATION:PT1H
X-Robots-Tag:noindex
X-PUBLISHED-TTL:PT1H
BEGIN:VTIMEZONE
TZID:America/Los_Angeles
BEGIN:DAYLIGHT
TZOFFSETFROM:-0800
TZOFFSETTO:-0700
TZNAME:PDT
DTSTART:20170312T100000
END:DAYLIGHT
BEGIN:STANDARD
TZOFFSETFROM:-0700
TZOFFSETTO:-0800
TZNAME:PST
DTSTART:20171105T090000
END:STANDARD
BEGIN:DAYLIGHT
TZOFFSETFROM:-0800
TZOFFSETTO:-0700
TZNAME:PDT
DTSTART:20180311T100000
END:DAYLIGHT
BEGIN:STANDARD
TZOFFSETFROM:-0700
TZOFFSETTO:-0800
TZNAME:PST
DTSTART:20181104T090000
END:STANDARD
BEGIN:DAYLIGHT
TZOFFSETFROM:-0800
TZOFFSETTO:-0700
TZNAME:PDT
DTSTART:20190310T100000
END:DAYLIGHT
BEGIN:STANDARD
TZOFFSETFROM:-0700
TZOFFSETTO:-0800
TZNAME:PST
DTSTART:20191103T090000
END:STANDARD
END:VTIMEZONE
BEGIN:VEVENT
DTSTART;TZID=America/Los_Angeles:20180712T190000
DTEND;TZID=America/Los_Angeles:20180712T203000
DTSTAMP:20260424T083357
CREATED:20180712T002016Z
LAST-MODIFIED:20180712T002016Z
UID:21246-1531422000-1531427400@h-nt.org
SUMMARY:Community Campus Congregational Meeting
DESCRIPTION:  \nOn June 15 we sent a letter to the congregation describing a potential partnership we’ve been exploring with the SJCC and other Jewish organizations. The project has been moving along and we would like to share an update\, answer questions and listen to your feedback. \nBoth HNT and the SJCC have aging buildings\, and we both want to plan for our futures in the most efficient way possible. In addition\, the French American School of Puget Sound (“FASPS”)\, residing on the SJCC land\, has purchased 2 acres to the west of the SJCC\, for future expansion. They currently serve 450 students and their building is approaching the end of its useful life. This presents an incredible opportunity to explore the possibility of joining forces with SJCC and other Jewish organizations to create a Jewish campus\, staying true to our HNT identity while still being part of an exciting Jewish Center for Seattle. We are participating in early conversations with the SJCC and the FASPS about a future Community campus that could reside on our property and that of the SJCC and the FASPS. Several other Jewish organizations\, including the Jewish Day School\, are also participating in these discussions. \nWorking groups are now forming to study how this Campus would function\, what facilities would look like\, how we would all work together\, what would be shared\, what programming efficiencies would result and more. No decisions have been made and we are still early in the process\, but we remain excited at the progress. \nAs part of this process\, we have requested that the City of Mercer Island consider a new comprehensive plan and zoning designation\, termed a ‘Private Community Facility’ that would allow us to optimize design of our shared properties in a manner consistent with the programs and services we deliver\, provide more flexible development standards that are appropriate to our uses\, and that benefit the community and that respect the needs of the surrounding neighborhood. \nAlthough these are first steps in what will be a very lengthy process\, we want to keep you up to speed on the discussions and hear from you. What comes out of this process and what we choose to do will take – time. The HNT Board and community will be involved throughout the process and decide what HNT’s future will be. The Board is committed to communicating regularly to ensure everyone is up-to-speed on developments. More to come. \nTo hear about the potential Community Campus and the possible new comprehensive plan and zoning designations\, please join us for a congregational meeting on July 12\, 2018\, 7:00 PM at Herzl-Ner Tamid. \nWe hope you will join us to learn more. \nSincerely\,\nZane Brown\nHNT Board President \nDonna Peha\nImmediate Past HNT Board President\nHNT Representative to Community Campus Committee
URL:https://h-nt.org/calendar/community-campus-congregational-meeting/
END:VEVENT
END:VCALENDAR