BEGIN:VCALENDAR
VERSION:2.0
PRODID:-//HNT - ECPv6.15.20//NONSGML v1.0//EN
CALSCALE:GREGORIAN
METHOD:PUBLISH
X-WR-CALNAME:HNT
X-ORIGINAL-URL:https://h-nt.org
X-WR-CALDESC:Events for HNT
REFRESH-INTERVAL;VALUE=DURATION:PT1H
X-Robots-Tag:noindex
X-PUBLISHED-TTL:PT1H
BEGIN:VTIMEZONE
TZID:America/Los_Angeles
BEGIN:DAYLIGHT
TZOFFSETFROM:-0800
TZOFFSETTO:-0700
TZNAME:PDT
DTSTART:20180311T100000
END:DAYLIGHT
BEGIN:STANDARD
TZOFFSETFROM:-0700
TZOFFSETTO:-0800
TZNAME:PST
DTSTART:20181104T090000
END:STANDARD
BEGIN:DAYLIGHT
TZOFFSETFROM:-0800
TZOFFSETTO:-0700
TZNAME:PDT
DTSTART:20190310T100000
END:DAYLIGHT
BEGIN:STANDARD
TZOFFSETFROM:-0700
TZOFFSETTO:-0800
TZNAME:PST
DTSTART:20191103T090000
END:STANDARD
BEGIN:DAYLIGHT
TZOFFSETFROM:-0800
TZOFFSETTO:-0700
TZNAME:PDT
DTSTART:20200308T100000
END:DAYLIGHT
BEGIN:STANDARD
TZOFFSETFROM:-0700
TZOFFSETTO:-0800
TZNAME:PST
DTSTART:20201101T090000
END:STANDARD
END:VTIMEZONE
BEGIN:VEVENT
DTSTART;TZID=America/Los_Angeles:20190313T113000
DTEND;TZID=America/Los_Angeles:20190313T140000
DTSTAMP:20260425T042820
CREATED:20190124T195833Z
LAST-MODIFIED:20190124T195833Z
UID:21813-1552476600-1552485600@h-nt.org
SUMMARY:Daytimers Lunch & Film: Sallah
DESCRIPTION:Sallah\nA 1964 Israeli satire in Hebrew with English subtitles\nThis sharp\, often hilarious satire is about new Yemenite immigrants Sallah (Topol) and his family\, who are forced to move to a government settlement camp. This hilarious portrayal of immigrants in Israel won a Golden Globe Award and was nominated for an Academy Award for Best Foreign Film\, putting Israel on the international film stage for the first time. \n*The March film will take place on the second Wednesday of the month rather than the third due to the Fast of Esther. \n$8/person for lunch\, served 11:30 AM – 12:30 PM followed by the film\nReserve by the Friday before each film so that we can prepare for you!\nVisit h-nt.org/Daytimers or call 206-232-8555 \nSupport for the Daytimers Program is underwritten with love by the family of Marv Coe z”l\nand by the Alfred & Tillie Shemanski Trust Fund
URL:https://h-nt.org/calendar/daytimers-lunch-film-sallah/
LOCATION:Feinberg Social Hall
END:VEVENT
END:VCALENDAR