BEGIN:VCALENDAR
VERSION:2.0
PRODID:-//HNT - ECPv6.15.20//NONSGML v1.0//EN
CALSCALE:GREGORIAN
METHOD:PUBLISH
X-ORIGINAL-URL:https://h-nt.org
X-WR-CALDESC:Events for HNT
REFRESH-INTERVAL;VALUE=DURATION:PT1H
X-Robots-Tag:noindex
X-PUBLISHED-TTL:PT1H
BEGIN:VTIMEZONE
TZID:America/Los_Angeles
BEGIN:DAYLIGHT
TZOFFSETFROM:-0800
TZOFFSETTO:-0700
TZNAME:PDT
DTSTART:20180311T100000
END:DAYLIGHT
BEGIN:STANDARD
TZOFFSETFROM:-0700
TZOFFSETTO:-0800
TZNAME:PST
DTSTART:20181104T090000
END:STANDARD
BEGIN:DAYLIGHT
TZOFFSETFROM:-0800
TZOFFSETTO:-0700
TZNAME:PDT
DTSTART:20190310T100000
END:DAYLIGHT
BEGIN:STANDARD
TZOFFSETFROM:-0700
TZOFFSETTO:-0800
TZNAME:PST
DTSTART:20191103T090000
END:STANDARD
BEGIN:DAYLIGHT
TZOFFSETFROM:-0800
TZOFFSETTO:-0700
TZNAME:PDT
DTSTART:20200308T100000
END:DAYLIGHT
BEGIN:STANDARD
TZOFFSETFROM:-0700
TZOFFSETTO:-0800
TZNAME:PST
DTSTART:20201101T090000
END:STANDARD
END:VTIMEZONE
BEGIN:VEVENT
DTSTART;TZID=America/Los_Angeles:20190315T180000
DTEND;TZID=America/Los_Angeles:20190315T203000
DTSTAMP:20260424T075025
CREATED:20190124T191149Z
LAST-MODIFIED:20190124T192057Z
UID:21765-1552672800-1552681800@h-nt.org
SUMMARY:Music for the Soul: Musical Artist in Residence Yoel Sykes
DESCRIPTION:Yoel Sykes is a musical spiritual leader in Nava Tehila\, a Jewish Renewal community which focuses on creating innovative and engaging prayer spaces where people feel comfortable to come as they are. Yoel is known for composing new melodies to traditional prayers now sung throughout the globe. \nThursday\, March 14: 7:00 PM Chorus Training: Yoel will train a small chorus to stimulate singing within the congregation. Please contact Rabbi Rosenbaum at rabbir@h-nt.org  if you are interested in joining this chorus. \nFriday\, March 15: 6:00 PM Shabbat Services: A musical Kabbalat Shabbat journey with Rhythm & Jews. Followed by a TGIS congregational dinner. RSVP required for dinner. \nSaturday\, March 16: 10:00 AM Shabbat Services: An innovative and spirited a cappella Shabbat service lead by Yoel Sykes\, Rabbi Rosenbaum\, Cantor Kurland\, and Rabbi Green. \nSaturday\, March 16: 7:30 PM Havdallah & Concert: Join Yoel Sykes and Chava Mirel for an evening of delight as they invite us to enter the new week with intention & joy. Doors open 7:30 PM\, Havdallah 8:00 PM\, Concert 8:15 PM. $10 advance tickets by 3/14\, $15 at the door. \nSunday\, March 17: 9:30 AM Frankel Religious School: Music for the Soul continues with a special musical concert led by Yoel Sykes for all FRS families from 9:30 AM-10:30 AM. Open to the community. \nCo-sponsored by Herzl-Ner Tamid & Camp Solomon Schechter
URL:https://h-nt.org/calendar/music-for-the-soul-musical-artist-in-residence-yoel-sykes-2/
LOCATION:Sanctuary
CATEGORIES:Services
END:VEVENT
BEGIN:VEVENT
DTSTART;TZID=America/Los_Angeles:20190315T193000
DTEND;TZID=America/Los_Angeles:20190315T203000
DTSTAMP:20260424T075025
CREATED:20190221T173819Z
LAST-MODIFIED:20190221T173819Z
UID:21867-1552678200-1552681800@h-nt.org
SUMMARY:TGIS: Thank G-d It's Shabbat Dinner
DESCRIPTION:TGIS builds community and creates new friendships for Garinim\, Shtilim and B’Yachad families and beyond. Join us for services and a community dinner to welcome Shabbat and engage with fellow FRS and community families with musical guest Yoel Sykes. The expense for TGIS included in the FRS tuition for 3rd through 5th graders and their immediate family. Invite your extended family and friends! Please RSVP here: https://hnt.wufoo.com/forms/tgis-march/
URL:https://h-nt.org/calendar/tgis-thank-g-d-its-shabbat-dinner-2/
CATEGORIES:Religious School
END:VEVENT
END:VCALENDAR