BEGIN:VCALENDAR
VERSION:2.0
PRODID:-//HNT - ECPv6.15.20//NONSGML v1.0//EN
CALSCALE:GREGORIAN
METHOD:PUBLISH
X-ORIGINAL-URL:https://h-nt.org
X-WR-CALDESC:Events for HNT
REFRESH-INTERVAL;VALUE=DURATION:PT1H
X-Robots-Tag:noindex
X-PUBLISHED-TTL:PT1H
BEGIN:VTIMEZONE
TZID:America/Los_Angeles
BEGIN:DAYLIGHT
TZOFFSETFROM:-0800
TZOFFSETTO:-0700
TZNAME:PDT
DTSTART:20180311T100000
END:DAYLIGHT
BEGIN:STANDARD
TZOFFSETFROM:-0700
TZOFFSETTO:-0800
TZNAME:PST
DTSTART:20181104T090000
END:STANDARD
BEGIN:DAYLIGHT
TZOFFSETFROM:-0800
TZOFFSETTO:-0700
TZNAME:PDT
DTSTART:20190310T100000
END:DAYLIGHT
BEGIN:STANDARD
TZOFFSETFROM:-0700
TZOFFSETTO:-0800
TZNAME:PST
DTSTART:20191103T090000
END:STANDARD
BEGIN:DAYLIGHT
TZOFFSETFROM:-0800
TZOFFSETTO:-0700
TZNAME:PDT
DTSTART:20200308T100000
END:DAYLIGHT
BEGIN:STANDARD
TZOFFSETFROM:-0700
TZOFFSETTO:-0800
TZNAME:PST
DTSTART:20201101T090000
END:STANDARD
END:VTIMEZONE
BEGIN:VEVENT
DTSTART;TZID=America/Los_Angeles:20190326T083000
DTEND;TZID=America/Los_Angeles:20190326T153000
DTSTAMP:20260424T075015
CREATED:20190124T193425Z
LAST-MODIFIED:20190125T201331Z
UID:21792-1553589000-1553614200@h-nt.org
SUMMARY:JFGS Jewish Community Lobby Day
DESCRIPTION:With everything going on in the other Washington\, it’s easy to forget about what’s happening outside our front door. But state government has the most tangible impact on our daily lives. \nJoin your friends\, neighbors\, congregants\, and fellow engaged citizens in Olympia for Jewish Community Lobby Day! We’ll do all the prep work for you; no prior experience necessary. We’ll have a fun morning together at Temple Beth Hatfiloh in Olympia – learning about the issues\, practicing our lobbying\, and getting fueled (yes\, that means food!) for our afternoon on the hill. During lunch\, we’ll caucus by individual legislative district and discuss stragegy for our meetings. And after lunch\, each group will walk a few short blocks up to the Capitol to meet with our legislators on the issues most important to you – like supporting quality Holocaust education\, protecting immigrants and refugees\, preventing gun violence\, supporting vulnerable families\, and much more! \nThis is a great opportunity to live out your Jewish values both for those who have never done advocacy or lobbying and those who have experience to share!\nWe know getting to and from Olympia can be a challenge\, so this year\, we will be running two buses for participants. One bus will leave from Congregation Beth Shalom in the north end; the other will leave from Sephardic Bikur Holim in south Seattle and make a stop in Tacoma. The cost for the bus is an additional $18. \nWe would love to welcome high school students participate in Lobby Day — after all\, children are often the most effective advocates! All students must be accompanied by a parent/guardian or a chaperone who signs a liability waiver for them. \nEvent Details:\nDate: March 26\, 2019\nTime: 8:30 AM – 3:30 PM\nCost: Adult – $18\, Seniors/Students – $10\, Optional Bus ticket – $18\, RSVP Mandatory by March 24\, 2019\nLocation: State Capitol – Meet at Temple Beth Hatfiloh (201 8th Ave SE\, Olympia\, WA 98501)\nFood: Kosher light breakfast and lunch will be provided \nBus Locations and Timing\nNorth End Bus Drop Off and Pick up Location – Congregation Beth Shalom\, 6800 35th Ave NE\, Seattle\, WA 98115\nSouth End Bus Drop Off and Pick up Location – Sephardic Bikur Holim\, 6500 52nd Ave S\, Seattle\, WA 98118 – This bus will make an additional stop in Tacoma\nBoth buses will load between 6:55-7:10 am and depart promptly at 7:15 am – no exceptions. \nTimeline and Logistics \n8:30 – 9:00 Check-in\, Packet Review\,and Breakfast\n9:00 – 9:10 Welcome and mapping of the day – Program will begin promptly at 9:00\n9:10 – 11:00 Speakers\, legislative issue briefings and training (more details TBA)\n11:00 – 11:45 Lunch and Caucusing (by legislative district)\n11:45 Legislative groups begin departing to Capitol Campus (five blocks away) as needed for meetings. The first meetings begin at noon.\n12:00 – 3:00 Meetings with legislatures\n3:00 – 3:20 Concluding meeting on front steps of the Legislative Building (capitol steps)\n3:20 – 3:30 Debrief\, wrap-up\, return to cars and/or bus and depart! \nRSVP Mandatory by March 24
URL:https://h-nt.org/calendar/jfgs-jewish-community-lobby-day/
LOCATION:State Capitol\, Olympia
CATEGORIES:Social Action
END:VEVENT
BEGIN:VEVENT
DTSTART;TZID=America/Los_Angeles:20190326T120000
DTEND;TZID=America/Los_Angeles:20190326T133000
DTSTAMP:20260424T075015
CREATED:20190221T175431Z
LAST-MODIFIED:20190221T175431Z
UID:21892-1553601600-1553607000@h-nt.org
SUMMARY:Cantor's Nosh & Sing
DESCRIPTION:Come join us for Nosh and Sing\, a fun\, casual\, enjoyable get together where we sing Israeli\, Yiddish\, Ladino and American Folk songs. All are welcome. Please feel free to bring a dairy lunch; Herzl-Ner Tamid will provide the snacks and sweets. RSVP at https://hnt.wufoo.com/forms/20182019-cantors-nosh-sing/.
URL:https://h-nt.org/calendar/cantors-nosh-sing-14/
LOCATION:Upper Foyer
END:VEVENT
END:VCALENDAR