BEGIN:VCALENDAR
VERSION:2.0
PRODID:-//HNT - ECPv6.15.20//NONSGML v1.0//EN
CALSCALE:GREGORIAN
METHOD:PUBLISH
X-WR-CALNAME:HNT
X-ORIGINAL-URL:https://h-nt.org
X-WR-CALDESC:Events for HNT
REFRESH-INTERVAL;VALUE=DURATION:PT1H
X-Robots-Tag:noindex
X-PUBLISHED-TTL:PT1H
BEGIN:VTIMEZONE
TZID:America/Los_Angeles
BEGIN:DAYLIGHT
TZOFFSETFROM:-0800
TZOFFSETTO:-0700
TZNAME:PDT
DTSTART:20190310T100000
END:DAYLIGHT
BEGIN:STANDARD
TZOFFSETFROM:-0700
TZOFFSETTO:-0800
TZNAME:PST
DTSTART:20191103T090000
END:STANDARD
BEGIN:DAYLIGHT
TZOFFSETFROM:-0800
TZOFFSETTO:-0700
TZNAME:PDT
DTSTART:20200308T100000
END:DAYLIGHT
BEGIN:STANDARD
TZOFFSETFROM:-0700
TZOFFSETTO:-0800
TZNAME:PST
DTSTART:20201101T090000
END:STANDARD
BEGIN:DAYLIGHT
TZOFFSETFROM:-0800
TZOFFSETTO:-0700
TZNAME:PDT
DTSTART:20210314T100000
END:DAYLIGHT
BEGIN:STANDARD
TZOFFSETFROM:-0700
TZOFFSETTO:-0800
TZNAME:PST
DTSTART:20211107T090000
END:STANDARD
END:VTIMEZONE
BEGIN:VEVENT
DTSTART;TZID=America/Los_Angeles:20200314T100000
DTEND;TZID=America/Los_Angeles:20200314T120000
DTSTAMP:20260423T153748
CREATED:20200312T171850Z
LAST-MODIFIED:20200312T171850Z
UID:23008-1584180000-1584187200@h-nt.org
SUMMARY:Shabbat Services with Zoom Live Broadcast
DESCRIPTION:We are discouraging – but not outright banning – people from attending Shabbat services. We will have arranged enough people to come to have a minyan – please don’t come because you’re worried we need you for a minyan. \nShabbat services will be broadcast live on the internet\, using Zoom at https://zoom.us/j/218320655. This is a temporary measure in light of the health concerns. Services will not be recorded. The link will be live five minutes before the scheduled start of services (5:55pm Friday night\, 9:55am Saturday morning). \n\nAnyone who is in a high risk group is STRONGLY encouraged to stay home and join us virtually. High risk includes: 1) anyone over 60 – even if you are healthy; 2) anyone with a chronic health condition such as heart disease\, lung disease\, or diabetes; 3) anyone with a compromised immune system; 4) pregnant women.\nThe Conservative Movement’s Law Committee has stated that it’s possible to join a minyan remotely for purposes of saying kaddish or joining in communal responses such as the barchu and kedushah.\n\nWe will not have kiddush following services on Saturday\, or pre-neg before services on Friday night. \n\n\n\n\n\nAll services\, including weekday minyan\, will take place in the main sanctuary\, and those present will be asked to spread out. The health department advises that 6’ is a safe distance. \n\n\nWe’ve established new protocols\, such as no hand shaking or hugs\, no kissing ritual objects\, etc.
URL:https://h-nt.org/calendar/shabbat-services-with-zoom-live-broadcast-2/
CATEGORIES:Services
END:VEVENT
END:VCALENDAR