BEGIN:VCALENDAR
VERSION:2.0
PRODID:-//HNT - ECPv6.15.20//NONSGML v1.0//EN
CALSCALE:GREGORIAN
METHOD:PUBLISH
X-ORIGINAL-URL:https://h-nt.org
X-WR-CALDESC:Events for HNT
REFRESH-INTERVAL;VALUE=DURATION:PT1H
X-Robots-Tag:noindex
X-PUBLISHED-TTL:PT1H
BEGIN:VTIMEZONE
TZID:America/Los_Angeles
BEGIN:DAYLIGHT
TZOFFSETFROM:-0800
TZOFFSETTO:-0700
TZNAME:PDT
DTSTART:20190310T100000
END:DAYLIGHT
BEGIN:STANDARD
TZOFFSETFROM:-0700
TZOFFSETTO:-0800
TZNAME:PST
DTSTART:20191103T090000
END:STANDARD
BEGIN:DAYLIGHT
TZOFFSETFROM:-0800
TZOFFSETTO:-0700
TZNAME:PDT
DTSTART:20200308T100000
END:DAYLIGHT
BEGIN:STANDARD
TZOFFSETFROM:-0700
TZOFFSETTO:-0800
TZNAME:PST
DTSTART:20201101T090000
END:STANDARD
BEGIN:DAYLIGHT
TZOFFSETFROM:-0800
TZOFFSETTO:-0700
TZNAME:PDT
DTSTART:20210314T100000
END:DAYLIGHT
BEGIN:STANDARD
TZOFFSETFROM:-0700
TZOFFSETTO:-0800
TZNAME:PST
DTSTART:20211107T090000
END:STANDARD
END:VTIMEZONE
BEGIN:VEVENT
DTSTART;TZID=America/Los_Angeles:20201030T080000
DTEND;TZID=America/Los_Angeles:20201030T084500
DTSTAMP:20260421T123633
CREATED:20200924T212701Z
LAST-MODIFIED:20200930T210805Z
UID:24155-1604044800-1604047500@h-nt.org
SUMMARY:Virtual Morning Minyan
DESCRIPTION:How to Connect \n\nYou can join our Virtual Services on any desktop computer\, laptop\, tablet\, or smartphone at https://us02web.zoom.us/j/814064429?pwd=dGlndXVCSm1Pb3pYSTlQNktSc3BaUT09.\n\nIf this is your first time using Zoom\, read through out How To Use Zoom guide. If you run into further problems\, please email Ashley@h-nt.org.\n\n\nYou can use a landline to have an audio-only connection by dialing +1669-900-6833\,\,814064429#\n\nIf you have a lot of background noise\, or are having a side conversation\, please mute yourself so we can limit distractions from the service.
URL:https://h-nt.org/calendar/virtual-morning-minyan-181/
CATEGORIES:Services
END:VEVENT
BEGIN:VEVENT
DTSTART;TZID=America/Los_Angeles:20201030T130000
DTEND;TZID=America/Los_Angeles:20201030T143000
DTSTAMP:20260421T123633
CREATED:20200924T210630Z
LAST-MODIFIED:20200924T210630Z
UID:24105-1604062800-1604068200@h-nt.org
SUMMARY:HaMotzi To-Go: Shabbat Dinners For Order
DESCRIPTION:Make Shabbat special by ordering to-go dinners\, each serving 2 people\, featuring a different caterer and menu each week! Click to order here. \nFriday\, October 30 Traditional Shabbat Menu by Purple Beet Catering (Prepared in the HNT kitchen):\nCaramelized Onion Shabbos Chicken – Half Chicken Roasted and Smothered in Caramelized Onions\nHerb Roasted Yukon Gold Potatoes\nAutumn Vegetable Medley\nChallah Rolls with Hummus\nChocolate Cupcakes\nFull price: $56 dinner for two\nSubsidized price (HNT & TDHS members only): $28 dinner for two \nPick-up/Delivery Information \n\nPick-up will take place as a drive-thru at HNT 1:00 PM – 2:30 PM on the meal date.\nOn the meal date\, a driver will call the phone number submitted on the form once they have left the package at your door.\n\nGrateful appreciation to the family of Diane Lilly z”l\, the Alfred and Tillie Shemanski Trust Fund and many donors for subsidizing meals for those in need.
URL:https://h-nt.org/calendar/hamotzi-to-go-shabbat-dinners-for-order-24/
CATEGORIES:Holiday Programming
END:VEVENT
BEGIN:VEVENT
DTSTART;TZID=America/Los_Angeles:20201030T170000
DTEND;TZID=America/Los_Angeles:20201030T173000
DTSTAMP:20260421T123633
CREATED:20200930T212541Z
LAST-MODIFIED:20200930T212541Z
UID:24251-1604077200-1604079000@h-nt.org
SUMMARY:FRS Zoom Shabbat
DESCRIPTION:On Zoom with normal password: https://us02web.zoom.us/j/9750526089 \nAll families and friends are invited to join in on the Shabbat fun at home via Zoom. Students and families will be spotlighted to lead parts of our service and the Shabbat blessings. Great time to connect to other families with children in a friendly and informal way. Afterwards stay on for adult happy half hour with other FRS parents along with your favorite beverage.
URL:https://h-nt.org/calendar/frs-zoom-shabbat-2/
CATEGORIES:Religious School
END:VEVENT
BEGIN:VEVENT
DTSTART;TZID=America/Los_Angeles:20201030T173000
DTEND;TZID=America/Los_Angeles:20201030T180000
DTSTAMP:20260421T123633
CREATED:20200930T214308Z
LAST-MODIFIED:20200930T214308Z
UID:24257-1604079000-1604080800@h-nt.org
SUMMARY:USY Virtual Shabbat Dinner
DESCRIPTION:On Zoom with the normal password: https://us02web.zoom.us/j/9750526089 \nUSY Achim will have our first Shabbat dinner of the year! It will last about half an hour; our Religion and Education VP will lead us in a short Dvar Torah\, as well as the pre-meal blessings and candle lighting. The event will end there\, allowing students the time to have dinner with their families.
URL:https://h-nt.org/calendar/usy-virtual-shabbat-dinner/
CATEGORIES:Teen Activities
END:VEVENT
BEGIN:VEVENT
DTSTART;TZID=America/Los_Angeles:20201030T180000
DTEND;TZID=America/Los_Angeles:20201030T190000
DTSTAMP:20260421T123633
CREATED:20200924T214511Z
LAST-MODIFIED:20200930T211341Z
UID:24189-1604080800-1604084400@h-nt.org
SUMMARY:Virtual Shabbat Services
DESCRIPTION:On October 30 we celebrate Anniversary Shabbat \nHow to Connect \n\nYou can join our Virtual Services on any desktop computer\, laptop\, tablet\, or smartphone at https://us02web.zoom.us/j/814064429?pwd=dGlndXVCSm1Pb3pYSTlQNktSc3BaUT09.\n\nIf this is your first time using Zoom\, read through out How To Use Zoom guide. If you run into further problems\, please email Ashley@h-nt.org.\n\n\nYou can use a landline to have an audio-only connection by dialing +1669-900-6833\,\,814064429#\n\nIf you have a lot of background noise\, or are having a side conversation\, please mute yourself so we can limit distractions from the service.
URL:https://h-nt.org/calendar/virtual-shabbat-services-51/
CATEGORIES:Services
END:VEVENT
END:VCALENDAR