BEGIN:VCALENDAR
VERSION:2.0
PRODID:-//HNT - ECPv6.15.20//NONSGML v1.0//EN
CALSCALE:GREGORIAN
METHOD:PUBLISH
X-ORIGINAL-URL:https://h-nt.org
X-WR-CALDESC:Events for HNT
REFRESH-INTERVAL;VALUE=DURATION:PT1H
X-Robots-Tag:noindex
X-PUBLISHED-TTL:PT1H
BEGIN:VTIMEZONE
TZID:America/Los_Angeles
BEGIN:DAYLIGHT
TZOFFSETFROM:-0800
TZOFFSETTO:-0700
TZNAME:PDT
DTSTART:20210314T100000
END:DAYLIGHT
BEGIN:STANDARD
TZOFFSETFROM:-0700
TZOFFSETTO:-0800
TZNAME:PST
DTSTART:20211107T090000
END:STANDARD
BEGIN:DAYLIGHT
TZOFFSETFROM:-0800
TZOFFSETTO:-0700
TZNAME:PDT
DTSTART:20220313T100000
END:DAYLIGHT
BEGIN:STANDARD
TZOFFSETFROM:-0700
TZOFFSETTO:-0800
TZNAME:PST
DTSTART:20221106T090000
END:STANDARD
BEGIN:DAYLIGHT
TZOFFSETFROM:-0800
TZOFFSETTO:-0700
TZNAME:PDT
DTSTART:20230312T100000
END:DAYLIGHT
BEGIN:STANDARD
TZOFFSETFROM:-0700
TZOFFSETTO:-0800
TZNAME:PST
DTSTART:20231105T090000
END:STANDARD
END:VTIMEZONE
BEGIN:VEVENT
DTSTART;TZID=America/Los_Angeles:20220506T091500
DTEND;TZID=America/Los_Angeles:20220506T100000
DTSTAMP:20260425T193236
CREATED:20220420T220621Z
LAST-MODIFIED:20220503T162152Z
UID:27760-1651828500-1651831200@h-nt.org
SUMMARY:Tot Shabbat
DESCRIPTION:Fridays\, 9:15-10:00am In-Person at the SJCC \nPresented by Stroum Jewish Community Center\, Herzl-Ner Tamid Conservative Congregation\, PJ Library\, and Jewish Federation of Greater Seattle \nJoin Chava Mirel and Dr. Eliyahu Krigel for Tot Shabbat. If at home watch via the SJCC Facebook Live link by tuning in. Email Dr. Eliyahu Krigel at eliyahu@h-nt.org for the Zoom link.
URL:https://h-nt.org/calendar/tot-shabbat-36/
CATEGORIES:Garinim & Shtilim
END:VEVENT
BEGIN:VEVENT
DTSTART;TZID=America/Los_Angeles:20220506T180000
DTEND;TZID=America/Los_Angeles:20220506T190000
DTSTAMP:20260425T193236
CREATED:20220428T232050Z
LAST-MODIFIED:20220428T232050Z
UID:27832-1651860000-1651863600@h-nt.org
SUMMARY:Shabbat Services
DESCRIPTION:On May 6\, we celebrate High School Shabbat with graduating seniors. \nHow to Attend In-Person \nIn-person Shabbat services are available for those who are fully vaccinated (unless ineligible to be vaccinated). For a list of HNT’s current COVID protocols\, click here. \nHow to Connect Virtually \nVirtual stream will be available via YouTube at h-nt.org/youtube
URL:https://h-nt.org/calendar/shabbat-services-95/
LOCATION:Sanctuary
CATEGORIES:Services
END:VEVENT
BEGIN:VEVENT
DTSTART;TZID=America/Los_Angeles:20220506T180000
DTEND;TZID=America/Los_Angeles:20220506T203000
DTSTAMP:20260425T193236
CREATED:20220401T203221Z
LAST-MODIFIED:20220401T203221Z
UID:27648-1651860000-1651869000@h-nt.org
SUMMARY:High School Shabbat
DESCRIPTION:Friday\, May 6 • 6:00 PM Services Followed by Dinner\nJoin the entire HNT community as we celebrate this year’s graduating high school seniors with a special Shabbat Service and dinner. \nIf you have a graduating senior\, please RSVP yes or no at: h-nt.org/HSS-RSVP and fill out our survey at: h-nt.org/HSS-Booklet by Sunday\, April 24.\nMake the celebration even better by getting involved! Know a name we missed? Want to volunteer? Like to make a donation to help keep this event inclusive for all? Email Rebecca@h-nt.org.
URL:https://h-nt.org/calendar/high-school-shabbat-4/
END:VEVENT
END:VCALENDAR