BEGIN:VCALENDAR
VERSION:2.0
PRODID:-//HNT - ECPv6.15.20//NONSGML v1.0//EN
CALSCALE:GREGORIAN
METHOD:PUBLISH
X-ORIGINAL-URL:https://h-nt.org
X-WR-CALDESC:Events for HNT
REFRESH-INTERVAL;VALUE=DURATION:PT1H
X-Robots-Tag:noindex
X-PUBLISHED-TTL:PT1H
BEGIN:VTIMEZONE
TZID:America/Los_Angeles
BEGIN:DAYLIGHT
TZOFFSETFROM:-0800
TZOFFSETTO:-0700
TZNAME:PDT
DTSTART:20210314T100000
END:DAYLIGHT
BEGIN:STANDARD
TZOFFSETFROM:-0700
TZOFFSETTO:-0800
TZNAME:PST
DTSTART:20211107T090000
END:STANDARD
BEGIN:DAYLIGHT
TZOFFSETFROM:-0800
TZOFFSETTO:-0700
TZNAME:PDT
DTSTART:20220313T100000
END:DAYLIGHT
BEGIN:STANDARD
TZOFFSETFROM:-0700
TZOFFSETTO:-0800
TZNAME:PST
DTSTART:20221106T090000
END:STANDARD
BEGIN:DAYLIGHT
TZOFFSETFROM:-0800
TZOFFSETTO:-0700
TZNAME:PDT
DTSTART:20230312T100000
END:DAYLIGHT
BEGIN:STANDARD
TZOFFSETFROM:-0700
TZOFFSETTO:-0800
TZNAME:PST
DTSTART:20231105T090000
END:STANDARD
END:VTIMEZONE
BEGIN:VEVENT
DTSTART;TZID=America/Los_Angeles:20220524T190000
DTEND;TZID=America/Los_Angeles:20220524T200000
DTSTAMP:20260423T194151
CREATED:20220401T203725Z
LAST-MODIFIED:20220420T222957Z
UID:27667-1653418800-1653422400@h-nt.org
SUMMARY:Annual Meeting
DESCRIPTION:You’re Invited to HNT’s Annual Meeting\nTuesday May 24\, 2022 at 7:00 PM\nIn-Person (HNT Sanctuary) and Viewable Via Livestream \nPlease join us for our Annual Meeting on Tuesday\, May 24th at 7:00 PM!\nYour attendance is vital to pass the 2022-2023 budget\, slate of officers\, and by-law change \nVoting will be accepted through the online absentee process ONLY.\nPlease RSVP on the ballot link listed below to ensure we will have a quorum for our in-person event. \nIncluded in this email:\n• The proposed Slate of Officers\, By-Law Update and the 2022-2023 budget\n• Information on how to vote digitally\n• Information on how to join the meeting (both virtually and in-person)\n• The meeting agenda \nSLATE OF OFFICERS\nNominations to the 2022-2023 Executive Board for a one (1) year term:\nPresident: Mickey Friedman\nExecutive Vice President: Aaron Kiviat\nTreasurer/Financial Vice-President: Jeffrey Packer\nMembership Vice-President: Michael Tarlowe\nSecretary: Ilene Sloan\nImmediate Past President: Ilyse Wagner \nNominations to the 2022-2023 Board of Directors for a two (2) year term:\nAdam Droker\, Amy Hartman\, Jonathan Langman\, Lindsay O’Neil\, Sonny Putter\, Jaime Slutzky\, Gail Wiener \nNominations to the 2022-2023 Nominating Committee:\nRachel Blum\, Linda Jacobs\, Martha Javnozon\, Nissim Neuman \n2022-2023 By-Law Update:\nAvailable HERE. \n2022-2023 Budget as approved by the current Board of Directors:\nAvailable HERE. \nVOTING PROCESS\nThe voting process is by Absentee Voting through below link only.\nEach adult member (24+) is granted one vote per ballot item. Each form entry is ONE person’s vote. If there are two people in the household who are voting\, they should submit a second entry.\nPlease log-in to your individual ShulCloud account and click on the link to vote! VOTE NOW! \nANNUAL MEETING PARTICIPATION\nTo participate in the Annual Meeting in person\, RSVP HERE\nJoin on Tuesday\, May 24th at 7:00 PM in the HNT Sanctuary\nor watch all of the action via YouTube Live Stream \nAGENDA\n• Meeting Called to Order\n• Acceptance of the 2021 Annual Meeting Minutes (Found HERE)\n• D’var Torah – Rabbi Jacob Herber\n• Financial Report & Presentation of the Budget – Jeffrey Packer\, HNT Treasurer\n• Presentation of the 2022-2023 Slate & Nominating Committee – Zane Brown Jr\, Immediate Past President\n• Presentation of By-law change – Ilyse Wagner\, President\n• Call for the vote\n• Words from Ilyse Wagner\, President\n• Announcement of final vote \nIf you have any questions or issues navigating through the voting process\, or need additional information\, please email Melanie at MelanieM@h-nt.org \n  \n 
URL:https://h-nt.org/calendar/annual-meeting-2/
LOCATION:Sanctuary
END:VEVENT
END:VCALENDAR