BEGIN:VCALENDAR
VERSION:2.0
PRODID:-//HNT - ECPv6.15.20//NONSGML v1.0//EN
CALSCALE:GREGORIAN
METHOD:PUBLISH
X-WR-CALNAME:HNT
X-ORIGINAL-URL:https://h-nt.org
X-WR-CALDESC:Events for HNT
REFRESH-INTERVAL;VALUE=DURATION:PT1H
X-Robots-Tag:noindex
X-PUBLISHED-TTL:PT1H
BEGIN:VTIMEZONE
TZID:America/Los_Angeles
BEGIN:DAYLIGHT
TZOFFSETFROM:-0800
TZOFFSETTO:-0700
TZNAME:PDT
DTSTART:20210314T100000
END:DAYLIGHT
BEGIN:STANDARD
TZOFFSETFROM:-0700
TZOFFSETTO:-0800
TZNAME:PST
DTSTART:20211107T090000
END:STANDARD
BEGIN:DAYLIGHT
TZOFFSETFROM:-0800
TZOFFSETTO:-0700
TZNAME:PDT
DTSTART:20220313T100000
END:DAYLIGHT
BEGIN:STANDARD
TZOFFSETFROM:-0700
TZOFFSETTO:-0800
TZNAME:PST
DTSTART:20221106T090000
END:STANDARD
BEGIN:DAYLIGHT
TZOFFSETFROM:-0800
TZOFFSETTO:-0700
TZNAME:PDT
DTSTART:20230312T100000
END:DAYLIGHT
BEGIN:STANDARD
TZOFFSETFROM:-0700
TZOFFSETTO:-0800
TZNAME:PST
DTSTART:20231105T090000
END:STANDARD
END:VTIMEZONE
BEGIN:VEVENT
DTSTART;TZID=America/Los_Angeles:20220703T092000
DTEND;TZID=America/Los_Angeles:20220703T113000
DTSTAMP:20260419T160043
CREATED:20220411T224821Z
LAST-MODIFIED:20220411T224821Z
UID:27725-1656840000-1656847800@h-nt.org
SUMMARY:Cycling Affinity Group Ride
DESCRIPTION:Co-organized by Jeff Kay and Steve Luper\, our rides will generally be held the first Sunday of the month but will shift one week later if there is a holiday. \nRegister for May – July here. \nThis is casual and social so we won’t be racing and won’t drop riders. Jeff and/or Steve plan to be around for each ride. If either or neither of us can join any given month\, we will likely ask a volunteer(s) to lead and/or ride sweep to ensure that we don’t leave anybody behind. \nIf the weather forecast & evidence are much more than light drizzle\, we will not hold the ride. An email will go out at least two hours prior to the start time if a ride is cancelled due to weather. \nFinally\, this is a social group ride. Helmets are mandatory and other than that\, you are accepting responsibility and risk for your own safety and bicycling capabilities by joining the ride. HNT\, Jeff and Steve do not accept liability for any incidents or injuries that may occur while you are out riding your own bike with our group. \n7/3 at 920a\nMeet at Seattle Ferry terminal – we plan to take the 935am ferry to Bainbridge. Return ferry options are 120p and 210p at present.\nChilly Hilly route\nApprox distance 34 miles
URL:https://h-nt.org/calendar/cycling-affinity-group-ride-4/
END:VEVENT
END:VCALENDAR