BEGIN:VCALENDAR
VERSION:2.0
PRODID:-//HNT - ECPv6.15.20//NONSGML v1.0//EN
CALSCALE:GREGORIAN
METHOD:PUBLISH
X-ORIGINAL-URL:https://h-nt.org
X-WR-CALDESC:Events for HNT
REFRESH-INTERVAL;VALUE=DURATION:PT1H
X-Robots-Tag:noindex
X-PUBLISHED-TTL:PT1H
BEGIN:VTIMEZONE
TZID:America/Los_Angeles
BEGIN:DAYLIGHT
TZOFFSETFROM:-0800
TZOFFSETTO:-0700
TZNAME:PDT
DTSTART:20180311T100000
END:DAYLIGHT
BEGIN:STANDARD
TZOFFSETFROM:-0700
TZOFFSETTO:-0800
TZNAME:PST
DTSTART:20181104T090000
END:STANDARD
BEGIN:DAYLIGHT
TZOFFSETFROM:-0800
TZOFFSETTO:-0700
TZNAME:PDT
DTSTART:20190310T100000
END:DAYLIGHT
BEGIN:STANDARD
TZOFFSETFROM:-0700
TZOFFSETTO:-0800
TZNAME:PST
DTSTART:20191103T090000
END:STANDARD
BEGIN:DAYLIGHT
TZOFFSETFROM:-0800
TZOFFSETTO:-0700
TZNAME:PDT
DTSTART:20200308T100000
END:DAYLIGHT
BEGIN:STANDARD
TZOFFSETFROM:-0700
TZOFFSETTO:-0800
TZNAME:PST
DTSTART:20201101T090000
END:STANDARD
END:VTIMEZONE
BEGIN:VEVENT
DTSTART;TZID=America/Los_Angeles:20191103T100000
DTEND;TZID=America/Los_Angeles:20191103T113000
DTSTAMP:20260425T065219
CREATED:20190925T234344Z
LAST-MODIFIED:20190925T234344Z
UID:22402-1572775200-1572780600@h-nt.org
SUMMARY:Essential Judaism: Teleology: Jewish Views of the Messiah and the Afterlife
DESCRIPTION:Rav Barry’s Essential Judaism course meets on Sunday mornings at 10:00 AM in the Skolnick Board Room. Everyone is welcome to join us for individual classes or for the whole series. \nNovember 3: Teleology: Jewish Views of the Messiah and the Afterlife. A lot of Jews don’t know that normative Judaism does assume a heaven and hell. Many Jews believe in reincarnation. Some people believe the Messiah will come riding a white donkey. Others believe we are all collectively the Messiah. Join us to learn more.
URL:https://h-nt.org/calendar/essential-judaism-teleology-jewish-views-of-the-messiah-and-the-afterlife/
LOCATION:Skolnick Board Room
CATEGORIES:Adult Education
END:VEVENT
BEGIN:VEVENT
DTSTART;TZID=America/Los_Angeles:20191110T100000
DTEND;TZID=America/Los_Angeles:20191110T113000
DTSTAMP:20260425T065219
CREATED:20191024T224636Z
LAST-MODIFIED:20191024T224636Z
UID:22484-1573380000-1573385400@h-nt.org
SUMMARY:Essential Judaism: Jewish Prayer Service and Synagogue Rituals
DESCRIPTION:Rav Barry’s Essential Judaism course meets on Sunday mornings at 10:00 AM in the Skolnick Board Room. Everyone is welcome to join us for individual classes or for the whole series.
URL:https://h-nt.org/calendar/essential-judaism-jewish-prayer-service-and-synagogue-rituals/
LOCATION:Skolnick Board Room
CATEGORIES:Adult Education
END:VEVENT
BEGIN:VEVENT
DTSTART;TZID=America/Los_Angeles:20191110T160000
DTEND;TZID=America/Los_Angeles:20191110T180000
DTSTAMP:20260425T065219
CREATED:20191024T225102Z
LAST-MODIFIED:20191024T225102Z
UID:22490-1573401600-1573408800@h-nt.org
SUMMARY:Wine and Wisdom
DESCRIPTION:At the Mercer Island home of David and Lorna Isenberg \nWe’ll have an opportunity to sample some wine\, socialize\, and Rav Barry will share some Torah on the subject of wine. Among other things\, we’ll learn the origin of the custom of saying “L’chaim!” when we raise a glass. RSVP at hnt.wufoo.com/forms/w1xzvtga0iq8zls/
URL:https://h-nt.org/calendar/wine-and-wisdom/
CATEGORIES:Adult Education
END:VEVENT
BEGIN:VEVENT
DTSTART;TZID=America/Los_Angeles:20191113T190000
DTEND;TZID=America/Los_Angeles:20191113T210000
DTSTAMP:20260425T065219
CREATED:20190925T234613Z
LAST-MODIFIED:20190925T234613Z
UID:22404-1573671600-1573678800@h-nt.org
SUMMARY:Let My People Go: African-Americans and Jews in Conversation About the Bible’s Freedom Story
DESCRIPTION:Wednesdays\, November 13\, December 4\, 11 \n7:00 PM – 9:00 PM • Radiant Church\, Renton\nLed by Pastor Mike Thomas\, Rabbi Jay Rosenbaum\, Dr. Mark Jones\nAfrican Americans and Jews share a love of the Bible and a love of freedom. The story of the Exodus of the Children of Israel from Egypt has inspired our communities through the centuries to pursue our own paths to liberation. That path is ongoing. \nThe journey to the Promised Land has at times taken us in different directions\, unique to our experiences. Yet the African American and Jewish communities share a deep common bond. In the face of rising racism and antisemitism in America and in the world\, we look to old friends for nourishment and support. Join us in a conversation about Exodus designed to expand our understanding of the human spirit\, strengthen the connection between the African American and Jewish communities and lead us closer to Dr. King’s vision of beloved community. \nSession One: The Nature of Slavery\nSession Two: Resistance\nSession Three: The Long Road to Freedom \nIf you’d like to participate\, please contact Rabbi Rosenbaum at RabbiRosenbaum@h-nt.org.
URL:https://h-nt.org/calendar/let-my-people-go-african-americans-and-jews-in-conversation-about-the-bibles-freedom-story/
LOCATION:Radiant Church\, Renton
CATEGORIES:Adult Education
END:VEVENT
BEGIN:VEVENT
DTSTART;TZID=America/Los_Angeles:20191117T100000
DTEND;TZID=America/Los_Angeles:20191117T113000
DTSTAMP:20260425T065219
CREATED:20191024T224754Z
LAST-MODIFIED:20191024T224754Z
UID:22486-1573984800-1573990200@h-nt.org
SUMMARY:Essential Judaism: The Central Prayers of Judaism: the Shema and the Amidah
DESCRIPTION:Rav Barry’s Essential Judaism course meets on Sunday mornings at 10:00 AM in the Skolnick Board Room. Everyone is welcome to join us for individual classes or for the whole series.
URL:https://h-nt.org/calendar/essential-judaism-the-central-prayers-of-judaism-the-shema-and-the-amidah/
LOCATION:Skolnick Board Room
CATEGORIES:Adult Education
END:VEVENT
BEGIN:VEVENT
DTSTART;TZID=America/Los_Angeles:20191122T180000
DTEND;TZID=America/Los_Angeles:20191122T190000
DTSTAMP:20260425T065219
CREATED:20190925T234905Z
LAST-MODIFIED:20190925T235026Z
UID:22411-1574445600-1574449200@h-nt.org
SUMMARY:Scholar Visit: Rabbi Andrew Sacks
DESCRIPTION:Friday\, November 22 & Sunday November 24 at HNT\nRabbi Andrew Sacks\, Director of the Rabbinical Assembly in Israel\, will be with us the Shabbat of November 22 to 24. On Friday night during services he’ll speak about “Religion in Israel: It’s Not Black and White.” On Sunday morning over bagels he’ll speak about “Jews in Communities Where You Never Thought Jews May Be Found: Uganda\, the Amazon\, China\, and More.” \nRabbi Andrew Sacks made Aliyah\, from the Philadelphia area in 1987. Since that time he has been a leading voice on behalf of religious pluralism and tolerance in Israel. He serves as the director of the Rabbinical Assembly in Israel\, the organization of Masorti/Conservative rabbis. He is also the leading expert of issues relating to conversion\, Aliyah\, and religious rights in Israel. His blog may be found at: http://cgis.jpost.com/Blogs/conservative/
URL:https://h-nt.org/calendar/scholar-visit-rabbi-andrew-sacks/
CATEGORIES:Adult Education
END:VEVENT
BEGIN:VEVENT
DTSTART;TZID=America/Los_Angeles:20191124T100000
DTEND;TZID=America/Los_Angeles:20191124T110000
DTSTAMP:20260425T065219
CREATED:20190925T235009Z
LAST-MODIFIED:20190925T235009Z
UID:22413-1574589600-1574593200@h-nt.org
SUMMARY:Scholar Visit: Rabbi Andrew Sacks
DESCRIPTION:Friday\, November 22 & Sunday November 24 at HNT\nRabbi Andrew Sacks\, Director of the Rabbinical Assembly in Israel\, will be with us the Shabbat of November 22 to 24. On Friday night during services he’ll speak about “Religion in Israel: It’s Not Black and White.” On Sunday morning over bagels he’ll speak about “Jews in Communities Where You Never Thought Jews May Be Found: Uganda\, the Amazon\, China\, and More.” \nRabbi Andrew Sacks made Aliyah\, from the Philadelphia area in 1987. Since that time he has been a leading voice on behalf of religious pluralism and tolerance in Israel. He serves as the director of the Rabbinical Assembly in Israel\, the organization of Masorti/Conservative rabbis. He is also the leading expert of issues relating to conversion\, Aliyah\, and religious rights in Israel. His blog may be found at: http://cgis.jpost.com/Blogs/conservative/
URL:https://h-nt.org/calendar/scholar-visit-rabbi-andrew-sacks-2/
CATEGORIES:Adult Education
END:VEVENT
BEGIN:VEVENT
DTSTART;TZID=America/Los_Angeles:20191124T100000
DTEND;TZID=America/Los_Angeles:20191124T113000
DTSTAMP:20260425T065219
CREATED:20191024T224835Z
LAST-MODIFIED:20191024T224835Z
UID:22488-1574589600-1574595000@h-nt.org
SUMMARY:Essential Judaism: The Jewish Calendar and Holiday Cycle
DESCRIPTION:Rav Barry’s Essential Judaism course meets on Sunday mornings at 10:00 AM in the Skolnick Board Room. Everyone is welcome to join us for individual classes or for the whole series.
URL:https://h-nt.org/calendar/essential-judaism-the-jewish-calendar-and-holiday-cycle/
LOCATION:Skolnick Board Room
CATEGORIES:Adult Education
END:VEVENT
END:VCALENDAR