BEGIN:VCALENDAR
VERSION:2.0
PRODID:-//HNT - ECPv6.15.20//NONSGML v1.0//EN
CALSCALE:GREGORIAN
METHOD:PUBLISH
X-WR-CALNAME:HNT
X-ORIGINAL-URL:https://h-nt.org
X-WR-CALDESC:Events for HNT
REFRESH-INTERVAL;VALUE=DURATION:PT1H
X-Robots-Tag:noindex
X-PUBLISHED-TTL:PT1H
BEGIN:VTIMEZONE
TZID:America/Los_Angeles
BEGIN:DAYLIGHT
TZOFFSETFROM:-0800
TZOFFSETTO:-0700
TZNAME:PDT
DTSTART:20190310T100000
END:DAYLIGHT
BEGIN:STANDARD
TZOFFSETFROM:-0700
TZOFFSETTO:-0800
TZNAME:PST
DTSTART:20191103T090000
END:STANDARD
BEGIN:DAYLIGHT
TZOFFSETFROM:-0800
TZOFFSETTO:-0700
TZNAME:PDT
DTSTART:20200308T100000
END:DAYLIGHT
BEGIN:STANDARD
TZOFFSETFROM:-0700
TZOFFSETTO:-0800
TZNAME:PST
DTSTART:20201101T090000
END:STANDARD
BEGIN:DAYLIGHT
TZOFFSETFROM:-0800
TZOFFSETTO:-0700
TZNAME:PDT
DTSTART:20210314T100000
END:DAYLIGHT
BEGIN:STANDARD
TZOFFSETFROM:-0700
TZOFFSETTO:-0800
TZNAME:PST
DTSTART:20211107T090000
END:STANDARD
END:VTIMEZONE
BEGIN:VEVENT
DTSTART;TZID=America/Los_Angeles:20200403T120000
DTEND;TZID=America/Los_Angeles:20200403T130000
DTSTAMP:20260424T012739
CREATED:20200327T203150Z
LAST-MODIFIED:20200327T203150Z
UID:23073-1585915200-1585918800@h-nt.org
SUMMARY:Virtual Parshat Hashavua
DESCRIPTION:Virtual Learning: We have many virtual learning opportunities available\, see the earlier separate email that was sent for a comprehensive listing. \nRav Barry is also starting a weekly parshat hashavua (weekly Torah portion) discussion on Fridays at noon ( https://zoom.us/j/904003600 ).
URL:https://h-nt.org/calendar/virtual-parshat-hashavua/
CATEGORIES:Adult Education
END:VEVENT
BEGIN:VEVENT
DTSTART;TZID=America/Los_Angeles:20200405T100000
DTEND;TZID=America/Los_Angeles:20200405T113000
DTSTAMP:20260424T012739
CREATED:20200402T183147Z
LAST-MODIFIED:20200402T183147Z
UID:23104-1586080800-1586086200@h-nt.org
SUMMARY:Virtual Essential Judaism Class
DESCRIPTION:Sunday mornings at 10:00 AM\nApril schedule:\n• April 5: Zionism\, the Modern State of Israel\, the Holocaust & Israel in the Heart of the Jew\n• April 12: No class\, Passover\n• April 19 Lifecycles Part I: Birth\, Bris/Simchat Bat\, Bar Mitzvah\, Wedding\, Mezuzah\n• April 26 Lifecycle Part II Divorce\, Sickness\, aging\, death; Honor Your Father and Mother. Last class! \nIf you would like to receive handouts ahead of time\, email Rav Barry at ravbarry@h-nt.org. They will also be available from https://zoom.us/j/431313545
URL:https://h-nt.org/calendar/virtual-essential-judaism-class/
CATEGORIES:Adult Education
END:VEVENT
BEGIN:VEVENT
DTSTART;TZID=America/Los_Angeles:20200405T190000
DTEND;TZID=America/Los_Angeles:20200405T203000
DTSTAMP:20260424T012739
CREATED:20200402T183807Z
LAST-MODIFIED:20200402T183807Z
UID:23109-1586113200-1586118600@h-nt.org
SUMMARY:Chevraya: The Quest for Wholeness
DESCRIPTION:What is the relationship between changing ourselves and changing the world? What does the story of Jacob have to teach us about the role these inner tensions play in determining how we live in the outside world? Join Rabbi Samuel Klein (Jewish Federation) and Rabbi Jay Rosenbaum (Rabbi Emeritus\, Herzl-Ner Tamid) as they explore themes of sacrifice\, freedom\, and personal autonomy on the approach to the festival of Passover\, “the time of our liberation.” Join in via Zoom at https://zoom.us/j/328508797
URL:https://h-nt.org/calendar/chevraya-the-quest-for-wholeness/
CATEGORIES:Adult Education
END:VEVENT
BEGIN:VEVENT
DTSTART;TZID=America/Los_Angeles:20200408T084500
DTEND;TZID=America/Los_Angeles:20200408T093000
DTSTAMP:20260424T012739
CREATED:20200402T185846Z
LAST-MODIFIED:20200402T185846Z
UID:23111-1586335500-1586338200@h-nt.org
SUMMARY:Nosh\, Schnapps\, and Halacha
DESCRIPTION:Wednesday mornings after minyan\, approximately 8:45 AM\nWe’ll continue studying halacha from a Conservative perspective Wednesday mornings after minyan. You will\, however\, need to bring your own nosh and schnapps! We’ll just stay on the same Zoom link we use for the minyan: https://zoom.us/j/814064429
URL:https://h-nt.org/calendar/nosh-schnapps-and-halacha-5/
CATEGORIES:Adult Education
END:VEVENT
BEGIN:VEVENT
DTSTART;TZID=America/Los_Angeles:20200417T120000
DTEND;TZID=America/Los_Angeles:20200417T130000
DTSTAMP:20260424T012739
CREATED:20200402T214009Z
LAST-MODIFIED:20200402T214009Z
UID:23168-1587124800-1587128400@h-nt.org
SUMMARY:Virtual Parshat Hashavua
DESCRIPTION:Rav Barry will lead a study session on the week’s Torah portion on Fridays at noon. Start making the shift from the workweek to Shabbat with a little bit of lunchtime Torah study: https://zoom.us/j/904003600
URL:https://h-nt.org/calendar/virtual-parshat-hashavua-3/
CATEGORIES:Adult Education
END:VEVENT
BEGIN:VEVENT
DTSTART;TZID=America/Los_Angeles:20200419T100000
DTEND;TZID=America/Los_Angeles:20200419T113000
DTSTAMP:20260424T012739
CREATED:20200402T183228Z
LAST-MODIFIED:20200402T183228Z
UID:23101-1587290400-1587295800@h-nt.org
SUMMARY:Virtual Essential Judaism Class
DESCRIPTION:Sunday mornings at 10:00 AM\nApril schedule:\n• April 19 Lifecycles Part I: Birth\, Bris/Simchat Bat\, Bar Mitzvah\, Wedding\, Mezuzah\n• April 26 Lifecycle Part II Divorce\, Sickness\, aging\, death; Honor Your Father and Mother. Last class! \nIf you would like to receive handouts ahead of time\, email Rav Barry at ravbarry@h-nt.org. They will also be available from https://zoom.us/j/431313545
URL:https://h-nt.org/calendar/virtual-essential-judaism-class-2/
CATEGORIES:Adult Education
END:VEVENT
BEGIN:VEVENT
DTSTART;TZID=America/Los_Angeles:20200422T084500
DTEND;TZID=America/Los_Angeles:20200422T093000
DTSTAMP:20260424T012739
CREATED:20200402T185949Z
LAST-MODIFIED:20200402T185949Z
UID:23114-1587545100-1587547800@h-nt.org
SUMMARY:Nosh\, Schnapps\, and Halacha
DESCRIPTION:Wednesday mornings after minyan\, approximately 8:45 AM\nWe’ll continue studying halacha from a Conservative perspective Wednesday mornings after minyan. You will\, however\, need to bring your own nosh and schnapps! We’ll just stay on the same Zoom link we use for the minyan: https://zoom.us/j/814064429
URL:https://h-nt.org/calendar/nosh-schnapps-and-halacha-7/
CATEGORIES:Adult Education
END:VEVENT
BEGIN:VEVENT
DTSTART;TZID=America/Los_Angeles:20200424T120000
DTEND;TZID=America/Los_Angeles:20200424T130000
DTSTAMP:20260424T012739
CREATED:20200402T190608Z
LAST-MODIFIED:20200402T213912Z
UID:23120-1587729600-1587733200@h-nt.org
SUMMARY:Virtual Parshat Hashavua
DESCRIPTION:Rav Barry will lead a study session on the week’s Torah portion on Fridays at noon. Start making the shift from the workweek to Shabbat with a little bit of lunchtime Torah study: https://zoom.us/j/904003600
URL:https://h-nt.org/calendar/virtual-parshat-hashavua-2/
CATEGORIES:Adult Education
END:VEVENT
BEGIN:VEVENT
DTSTART;TZID=America/Los_Angeles:20200426T100000
DTEND;TZID=America/Los_Angeles:20200426T113000
DTSTAMP:20260424T012739
CREATED:20200402T183337Z
LAST-MODIFIED:20200402T183337Z
UID:23107-1587895200-1587900600@h-nt.org
SUMMARY:Virtual Essential Judaism Class
DESCRIPTION:Sunday mornings at 10:00 AM\nApril schedule:\n• April 26 Lifecycle Part II Divorce\, Sickness\, aging\, death; Honor Your Father and Mother. Last class! \nIf you would like to receive handouts ahead of time\, email Rav Barry at ravbarry@h-nt.org. They will also be available from https://zoom.us/j/431313545
URL:https://h-nt.org/calendar/virtual-essential-judaism-class-3/
CATEGORIES:Adult Education
END:VEVENT
BEGIN:VEVENT
DTSTART;TZID=America/Los_Angeles:20200429T084500
DTEND;TZID=America/Los_Angeles:20200429T093000
DTSTAMP:20260424T012739
CREATED:20200402T190026Z
LAST-MODIFIED:20200402T190026Z
UID:23117-1588149900-1588152600@h-nt.org
SUMMARY:Nosh\, Schnapps\, and Halacha
DESCRIPTION:Wednesday mornings after minyan\, approximately 8:45 AM\nWe’ll continue studying halacha from a Conservative perspective Wednesday mornings after minyan. You will\, however\, need to bring your own nosh and schnapps! We’ll just stay on the same Zoom link we use for the minyan: https://zoom.us/j/814064429
URL:https://h-nt.org/calendar/nosh-schnapps-and-halacha-8/
CATEGORIES:Adult Education
END:VEVENT
BEGIN:VEVENT
DTSTART;TZID=America/Los_Angeles:20200429T120000
DTEND;TZID=America/Los_Angeles:20200429T133000
DTSTAMP:20260424T012739
CREATED:20200420T184229Z
LAST-MODIFIED:20200420T184229Z
UID:23215-1588161600-1588167000@h-nt.org
SUMMARY:Together & Apart: Understanding the Relationship between Israeli and American Jewry
DESCRIPTION:Taught virtually by Rabbi Barry Leff and Rabbi Jay Rosenbaum\nEach class will run 90 minutes from 12:00 PM – 1:30 PM \nThis Hartman course understands the challenge to Jewish unity today as the move from being a people with no permanent home to one with two permanent homes\, Israel and North America. Through video lectures\, interviews\, and textual sources\, this curriculum examines the forces dividing Israeli and American Jewry today\, including nationalism\, antisemitism\, and identity politics; and\, it imagines new conceptual frameworks that can help sustain and grow the story of our people for a new millennium. \nWhen you register for the class\, you will be given a password that gives you access to the Hartman videos and source material. \nFor each class\, we will ask you to watch the main 30-minute Hartman video lecture in advance. During class we will review and discuss the lecture\, watch a Hartman interview based on the lecture and discuss the video together. \nPlease register with this link: https://hnt.wufoo.com/forms/together-and-apart/\nSession 1 – From No Home to Two Homes • April 29\, 2020\nSession 2 – Universalism and Particularism • May 6\, 2020\nSession 3 – Antisemitism and Anti-Zionism • May 13\, 2020\nSession 4 – “What’s Good for the Jews?” Identity Politics in North America • May 20\, 2020\nSession 5 – From Family to Consumer • May 27\, 2020\nSession 6 – At-Homeness • June 3\, 2020\nFor more information about the course\, contact: Rav Barry (ravbarry@h-nt.org) or Rabbi Rosenbaum (rabbirosenbaum@h-nt.org)
URL:https://h-nt.org/calendar/together-apart-understanding-the-relationship-between-israeli-and-american-jewry/
CATEGORIES:Adult Education
END:VEVENT
END:VCALENDAR