BEGIN:VCALENDAR
VERSION:2.0
PRODID:-//HNT - ECPv6.15.20//NONSGML v1.0//EN
CALSCALE:GREGORIAN
METHOD:PUBLISH
X-WR-CALNAME:HNT
X-ORIGINAL-URL:https://h-nt.org
X-WR-CALDESC:Events for HNT
REFRESH-INTERVAL;VALUE=DURATION:PT1H
X-Robots-Tag:noindex
X-PUBLISHED-TTL:PT1H
BEGIN:VTIMEZONE
TZID:America/Los_Angeles
BEGIN:DAYLIGHT
TZOFFSETFROM:-0800
TZOFFSETTO:-0700
TZNAME:PDT
DTSTART:20190310T100000
END:DAYLIGHT
BEGIN:STANDARD
TZOFFSETFROM:-0700
TZOFFSETTO:-0800
TZNAME:PST
DTSTART:20191103T090000
END:STANDARD
BEGIN:DAYLIGHT
TZOFFSETFROM:-0800
TZOFFSETTO:-0700
TZNAME:PDT
DTSTART:20200308T100000
END:DAYLIGHT
BEGIN:STANDARD
TZOFFSETFROM:-0700
TZOFFSETTO:-0800
TZNAME:PST
DTSTART:20201101T090000
END:STANDARD
BEGIN:DAYLIGHT
TZOFFSETFROM:-0800
TZOFFSETTO:-0700
TZNAME:PDT
DTSTART:20210314T100000
END:DAYLIGHT
BEGIN:STANDARD
TZOFFSETFROM:-0700
TZOFFSETTO:-0800
TZNAME:PST
DTSTART:20211107T090000
END:STANDARD
END:VTIMEZONE
BEGIN:VEVENT
DTSTART;TZID=America/Los_Angeles:20200501T120000
DTEND;TZID=America/Los_Angeles:20200501T130000
DTSTAMP:20260421T141653
CREATED:20200423T233016Z
LAST-MODIFIED:20200423T233016Z
UID:23256-1588334400-1588338000@h-nt.org
SUMMARY:Virtual Parshat Hashavua
DESCRIPTION:Rav Barry will lead a study session on the week’s Torah portion on Fridays at noon. Start making the shift from the workweek to Shabbat with a little bit of lunchtime Torah study: https://zoom.us/j/904003600
URL:https://h-nt.org/calendar/virtual-parshat-hashavua-4/
CATEGORIES:Adult Education
END:VEVENT
BEGIN:VEVENT
DTSTART;TZID=America/Los_Angeles:20200503T094500
DTEND;TZID=America/Los_Angeles:20200503T110000
DTSTAMP:20260421T141653
CREATED:20200430T195231Z
LAST-MODIFIED:20200430T195231Z
UID:23353-1588499100-1588503600@h-nt.org
SUMMARY:Chevraya Online Learning:  The Pit & The Rope
DESCRIPTION:Your Presenters: Rabbi Samuel Klein (Jewish Federation of Greater Seattle) & Rabbi Jay Rosenbaum (Rabbi Emeritus\, Herzl-Ner Tamid) \nWhat is the relationship between changing ourselves and changing the world? What does the story of Joseph have to teach us about the role these inner tensions play in determining how we live in the outside world? Join Rabbi Samuel Klein (Jewish Federation) and Rabbi Jay Rosenbaum (Rabbi Emeritus\, Herzl-Ner Tamid) connecting the study of classical Jewish texts with our everyday experience on the approach to the festival of Shavuot\, “the time of receiving Torah.” \nZoom link: https://zoom.us/j/98837978701
URL:https://h-nt.org/calendar/chevraya-online-learning-the-pit-the-rope/
CATEGORIES:Adult Education
END:VEVENT
BEGIN:VEVENT
DTSTART;TZID=America/Los_Angeles:20200506T084500
DTEND;TZID=America/Los_Angeles:20200506T091500
DTSTAMP:20260421T141653
CREATED:20200423T232759Z
LAST-MODIFIED:20200423T232759Z
UID:23253-1588754700-1588756500@h-nt.org
SUMMARY:Nosh\, Schnapps\, And Halacha
DESCRIPTION:Wednesday mornings after minyan\, approximately 8:45 AM\nWe’ll continue studying halacha from a Conservative perspective Wednesday mornings after minyan. You will\, however\, need to bring your own nosh and schnapps! We’ll just stay on the same Zoom link we use for the minyan: https://zoom.us/j/814064429
URL:https://h-nt.org/calendar/nosh-schnapps-and-halacha-6/
CATEGORIES:Adult Education
END:VEVENT
BEGIN:VEVENT
DTSTART;TZID=America/Los_Angeles:20200506T120000
DTEND;TZID=America/Los_Angeles:20200506T133000
DTSTAMP:20260421T141653
CREATED:20200420T184316Z
LAST-MODIFIED:20200420T184631Z
UID:23219-1588766400-1588771800@h-nt.org
SUMMARY:Together & Apart: Understanding the Relationship Between Israeli and American Jewry
DESCRIPTION:Taught virtually by Rabbi Barry Leff and Rabbi Jay Rosenbaum\nEach class will run 90 minutes from 12:00 PM – 1:30 PM \nThis Hartman course understands the challenge to Jewish unity today as the move from being a people with no permanent home to one with two permanent homes\, Israel and North America. Through video lectures\, interviews\, and textual sources\, this curriculum examines the forces dividing Israeli and American Jewry today\, including nationalism\, antisemitism\, and identity politics; and\, it imagines new conceptual frameworks that can help sustain and grow the story of our people for a new millennium. \nWhen you register for the class\, you will be given a password that gives you access to the Hartman videos and source material. \nFor each class\, we will ask you to watch the main 30-minute Hartman video lecture in advance. During class we will review and discuss the lecture\, watch a Hartman interview based on the lecture and discuss the video together. \nPlease register with this link: https://hnt.wufoo.com/forms/together-and-apart/\nSession 1 – From No Home to Two Homes • April 29\, 2020\nSession 2 – Universalism and Particularism • May 6\, 2020\nSession 3 – Antisemitism and Anti-Zionism • May 13\, 2020\nSession 4 – “What’s Good for the Jews?” Identity Politics in North America • May 20\, 2020\nSession 5 – From Family to Consumer • May 27\, 2020\nSession 6 – At-Homeness • June 3\, 2020\nFor more information about the course\, contact: Rav Barry (ravbarry@h-nt.org) or Rabbi Rosenbaum (rabbirosenbaum@h-nt.org)
URL:https://h-nt.org/calendar/together-apart-understanding-the-relationship-between-israeli-and-american-jewry-2/
CATEGORIES:Adult Education
END:VEVENT
BEGIN:VEVENT
DTSTART;TZID=America/Los_Angeles:20200513T120000
DTEND;TZID=America/Los_Angeles:20200513T133000
DTSTAMP:20260421T141653
CREATED:20200420T184352Z
LAST-MODIFIED:20200420T184627Z
UID:23221-1589371200-1589376600@h-nt.org
SUMMARY:Together & Apart: Understanding the Relationship Between Israeli and American Jewry
DESCRIPTION:Taught virtually by Rabbi Barry Leff and Rabbi Jay Rosenbaum\nEach class will run 90 minutes from 12:00 PM – 1:30 PM \nThis Hartman course understands the challenge to Jewish unity today as the move from being a people with no permanent home to one with two permanent homes\, Israel and North America. Through video lectures\, interviews\, and textual sources\, this curriculum examines the forces dividing Israeli and American Jewry today\, including nationalism\, antisemitism\, and identity politics; and\, it imagines new conceptual frameworks that can help sustain and grow the story of our people for a new millennium. \nWhen you register for the class\, you will be given a password that gives you access to the Hartman videos and source material. \nFor each class\, we will ask you to watch the main 30-minute Hartman video lecture in advance. During class we will review and discuss the lecture\, watch a Hartman interview based on the lecture and discuss the video together. \nPlease register with this link: https://hnt.wufoo.com/forms/together-and-apart/\nSession 1 – From No Home to Two Homes • April 29\, 2020\nSession 2 – Universalism and Particularism • May 6\, 2020\nSession 3 – Antisemitism and Anti-Zionism • May 13\, 2020\nSession 4 – “What’s Good for the Jews?” Identity Politics in North America • May 20\, 2020\nSession 5 – From Family to Consumer • May 27\, 2020\nSession 6 – At-Homeness • June 3\, 2020\nFor more information about the course\, contact: Rav Barry (ravbarry@h-nt.org) or Rabbi Rosenbaum (rabbirosenbaum@h-nt.org)
URL:https://h-nt.org/calendar/together-apart-understanding-the-relationship-between-israeli-and-american-jewry-3/
CATEGORIES:Adult Education
END:VEVENT
BEGIN:VEVENT
DTSTART;TZID=America/Los_Angeles:20200514T173000
DTEND;TZID=America/Los_Angeles:20200514T183000
DTSTAMP:20260421T141653
CREATED:20200427T210415Z
LAST-MODIFIED:20200427T210415Z
UID:23349-1589477400-1589481000@h-nt.org
SUMMARY:Virtual Rye & Rashi Cocktail Hour
DESCRIPTION:Rav Barry will share his favorite commentaries from Rashi while sipping rye. You’re welcome to join with whatever libation\, alcoholic or non\, that is your pleasure. A little bit of learning followed by some time to socialize with your HNT community on Zoom. \nJoin us at https://us02web.zoom.us/j/81565266195.
URL:https://h-nt.org/calendar/virtual-rye-rashi-cocktail-hour/
CATEGORIES:Adult Education
END:VEVENT
BEGIN:VEVENT
DTSTART;TZID=America/Los_Angeles:20200517T190000
DTEND;TZID=America/Los_Angeles:20200517T203000
DTSTAMP:20260421T141653
CREATED:20200501T162300Z
LAST-MODIFIED:20200507T190219Z
UID:23365-1589742000-1589747400@h-nt.org
SUMMARY:Chevraya Online Learning: What If Joseph Hates Us?
DESCRIPTION:Your Presenters: Rabbi Samuel Klein (Jewish Federation of Greater Seattle) & Rabbi Jay Rosenbaum (Rabbi Emeritus\, Herzl-Ner Tamid) \nWhat is the relationship between changing ourselves and changing the world? What does the story of Joseph have to teach us about the role these inner tensions play in determining how we live in the outside world? Join Rabbi Samuel Klein (Jewish Federation) and Rabbi Jay Rosenbaum (Rabbi Emeritus\, Herzl-Ner Tamid) connecting the study of classical Jewish texts with our everyday experience on the approach to the festival of Shavuot\, “the time of receiving Torah.” \nZoom link: https://zoom.us/j/93768489922
URL:https://h-nt.org/calendar/chevraya-online-learning-what-if-joseph-hates-us/
CATEGORIES:Adult Education
END:VEVENT
BEGIN:VEVENT
DTSTART;TZID=America/Los_Angeles:20200520T120000
DTEND;TZID=America/Los_Angeles:20200520T133000
DTSTAMP:20260421T141653
CREATED:20200420T184434Z
LAST-MODIFIED:20200420T184518Z
UID:23223-1589976000-1589981400@h-nt.org
SUMMARY:Together & Apart: Understanding the Relationship Between Israeli and American Jewry
DESCRIPTION:Taught virtually by Rabbi Barry Leff and Rabbi Jay Rosenbaum\nEach class will run 90 minutes from 12:00 PM – 1:30 PM \nThis Hartman course understands the challenge to Jewish unity today as the move from being a people with no permanent home to one with two permanent homes\, Israel and North America. Through video lectures\, interviews\, and textual sources\, this curriculum examines the forces dividing Israeli and American Jewry today\, including nationalism\, antisemitism\, and identity politics; and\, it imagines new conceptual frameworks that can help sustain and grow the story of our people for a new millennium. \nWhen you register for the class\, you will be given a password that gives you access to the Hartman videos and source material. \nFor each class\, we will ask you to watch the main 30-minute Hartman video lecture in advance. During class we will review and discuss the lecture\, watch a Hartman interview based on the lecture and discuss the video together. \nPlease register with this link: https://hnt.wufoo.com/forms/together-and-apart/\nSession 1 – From No Home to Two Homes • April 29\, 2020\nSession 2 – Universalism and Particularism • May 6\, 2020\nSession 3 – Antisemitism and Anti-Zionism • May 13\, 2020\nSession 4 – “What’s Good for the Jews?” Identity Politics in North America • May 20\, 2020\nSession 5 – From Family to Consumer • May 27\, 2020\nSession 6 – At-Homeness • June 3\, 2020\nFor more information about the course\, contact: Rav Barry (ravbarry@h-nt.org) or Rabbi Rosenbaum (rabbirosenbaum@h-nt.org)
URL:https://h-nt.org/calendar/together-apart-understanding-the-relationship-between-israeli-and-american-jewry-4/
CATEGORIES:Adult Education
END:VEVENT
BEGIN:VEVENT
DTSTART;TZID=America/Los_Angeles:20200527T120000
DTEND;TZID=America/Los_Angeles:20200527T133000
DTSTAMP:20260421T141653
CREATED:20200420T184512Z
LAST-MODIFIED:20200420T184512Z
UID:23224-1590580800-1590586200@h-nt.org
SUMMARY:Together & Apart: Understanding the Relationship Between Israeli and American Jewry
DESCRIPTION:Taught virtually by Rabbi Barry Leff and Rabbi Jay Rosenbaum\nEach class will run 90 minutes from 12:00 PM – 1:30 PM \nThis Hartman course understands the challenge to Jewish unity today as the move from being a people with no permanent home to one with two permanent homes\, Israel and North America. Through video lectures\, interviews\, and textual sources\, this curriculum examines the forces dividing Israeli and American Jewry today\, including nationalism\, antisemitism\, and identity politics; and\, it imagines new conceptual frameworks that can help sustain and grow the story of our people for a new millennium. \nWhen you register for the class\, you will be given a password that gives you access to the Hartman videos and source material. \nFor each class\, we will ask you to watch the main 30-minute Hartman video lecture in advance. During class we will review and discuss the lecture\, watch a Hartman interview based on the lecture and discuss the video together. \nPlease register with this link: https://hnt.wufoo.com/forms/together-and-apart/\nSession 1 – From No Home to Two Homes • April 29\, 2020\nSession 2 – Universalism and Particularism • May 6\, 2020\nSession 3 – Antisemitism and Anti-Zionism • May 13\, 2020\nSession 4 – “What’s Good for the Jews?” Identity Politics in North America • May 20\, 2020\nSession 5 – From Family to Consumer • May 27\, 2020\nSession 6 – At-Homeness • June 3\, 2020\nFor more information about the course\, contact: Rav Barry (ravbarry@h-nt.org) or Rabbi Rosenbaum (rabbirosenbaum@h-nt.org)
URL:https://h-nt.org/calendar/together-apart-understanding-the-relationship-between-israeli-and-american-jewry-5/
CATEGORIES:Adult Education
END:VEVENT
BEGIN:VEVENT
DTSTART;TZID=America/Los_Angeles:20200528T200000
DTEND;TZID=America/Los_Angeles:20200528T230000
DTSTAMP:20260421T141653
CREATED:20200430T221702Z
LAST-MODIFIED:20200521T231324Z
UID:23355-1590696000-1590706800@h-nt.org
SUMMARY:Tikkun Leil Shavuot
DESCRIPTION:This year we will have an online Tikkun Leil Shavuot\, night of study on Shavuot. \nClick here for the Zoom link \n• Thursday\, May 28\, 2020. 8:00 PM We’ll start with Ma’ariv (the evening service) which will take about 15 minutes\, and continue learning until 10:30 PM or 11:00 PM. \nWho is Mighty? Lessons of a Microbe\nRabbi Jay Rosenbaum\nEven in the face of very real external threats\, our people have always looked inward and asked ourselves how our own inner demons could contribute to our undoing. What does our Tradition have to teach us about the inner challenges that confront us during the pandemic crisis? How can the nature of our inner response help us to respond most effectively to external danger? \nRevelation in Dangerous Times\nRabbi Barry Leff\nPastor Tony Spell had hundreds of congregants at services on Palm Sunday\, in violation of Louisiana lockdown orders. He told reporters\, “We have a mandate from the word of God to not forsake the assembling of ourselves together.” Another scoff-law pastor\, Jesse Ramirez\, said\, “You wanna do what God says\, you know.” How do we know what God says? What’s God telling us today about how we can best serve God? \nTorah From History\, Torah From Heaven\nIan Crosby\, Esq.\nOur tradition holds that the Torah we have today is the same one that God gave Moses. But divine authorship is hard to square with the many inconsistencies\, repetitions\, and anachronisms we find in the received text. Do we have to choose between divine authorship and the “documentary hypothesis”—the claim that the Torah was redacted from different sources long after Sinai? Or is there a different approach to explaining the inconsistencies that can satisfy both our reason and our faith? \nTopic TBA\nBenjamin Diament \n  \nShavuot Meals\nIt’s traditional to have a dairy meal on Shavuot (one theory says this is because after the Torah was given\, they suddenly had to follow the rules for kosher meat and didn’t have any ready). You can order a tasty dairy meal that you can pick up at the synagogue in the afternoon before the Tikkun Leil Shavuot. It’s also possible to just order cheesecake\, not the whole meal. Click here for more information or to place an order. \n  \n• Friday\, May 29\, 2020. 9:30 AM – Shavuot Day 1 service\n• Saturday\, May 30\, 2020. 9:30 AM – Shavuot Day 2 service\, Yizkor
URL:https://h-nt.org/calendar/tikkun-leil-shavuot-2/
CATEGORIES:Adult Education,Holiday Programming
END:VEVENT
END:VCALENDAR