BEGIN:VCALENDAR
VERSION:2.0
PRODID:-//HNT - ECPv6.15.20//NONSGML v1.0//EN
CALSCALE:GREGORIAN
METHOD:PUBLISH
X-WR-CALNAME:HNT
X-ORIGINAL-URL:https://h-nt.org
X-WR-CALDESC:Events for HNT
REFRESH-INTERVAL;VALUE=DURATION:PT1H
X-Robots-Tag:noindex
X-PUBLISHED-TTL:PT1H
BEGIN:VTIMEZONE
TZID:America/Los_Angeles
BEGIN:DAYLIGHT
TZOFFSETFROM:-0800
TZOFFSETTO:-0700
TZNAME:PDT
DTSTART:20180311T100000
END:DAYLIGHT
BEGIN:STANDARD
TZOFFSETFROM:-0700
TZOFFSETTO:-0800
TZNAME:PST
DTSTART:20181104T090000
END:STANDARD
BEGIN:DAYLIGHT
TZOFFSETFROM:-0800
TZOFFSETTO:-0700
TZNAME:PDT
DTSTART:20190310T100000
END:DAYLIGHT
BEGIN:STANDARD
TZOFFSETFROM:-0700
TZOFFSETTO:-0800
TZNAME:PST
DTSTART:20191103T090000
END:STANDARD
BEGIN:DAYLIGHT
TZOFFSETFROM:-0800
TZOFFSETTO:-0700
TZNAME:PDT
DTSTART:20200308T100000
END:DAYLIGHT
BEGIN:STANDARD
TZOFFSETFROM:-0700
TZOFFSETTO:-0800
TZNAME:PST
DTSTART:20201101T090000
END:STANDARD
END:VTIMEZONE
BEGIN:VEVENT
DTSTART;TZID=America/Los_Angeles:20191103T100000
DTEND;TZID=America/Los_Angeles:20191103T113000
DTSTAMP:20260425T131344
CREATED:20190925T234344Z
LAST-MODIFIED:20190925T234344Z
UID:22402-1572775200-1572780600@h-nt.org
SUMMARY:Essential Judaism: Teleology: Jewish Views of the Messiah and the Afterlife
DESCRIPTION:Rav Barry’s Essential Judaism course meets on Sunday mornings at 10:00 AM in the Skolnick Board Room. Everyone is welcome to join us for individual classes or for the whole series. \nNovember 3: Teleology: Jewish Views of the Messiah and the Afterlife. A lot of Jews don’t know that normative Judaism does assume a heaven and hell. Many Jews believe in reincarnation. Some people believe the Messiah will come riding a white donkey. Others believe we are all collectively the Messiah. Join us to learn more.
URL:https://h-nt.org/calendar/essential-judaism-teleology-jewish-views-of-the-messiah-and-the-afterlife/
LOCATION:Skolnick Board Room
CATEGORIES:Adult Education
END:VEVENT
END:VCALENDAR