BEGIN:VCALENDAR
VERSION:2.0
PRODID:-//HNT - ECPv6.15.20//NONSGML v1.0//EN
CALSCALE:GREGORIAN
METHOD:PUBLISH
X-ORIGINAL-URL:https://h-nt.org
X-WR-CALDESC:Events for HNT
REFRESH-INTERVAL;VALUE=DURATION:PT1H
X-Robots-Tag:noindex
X-PUBLISHED-TTL:PT1H
BEGIN:VTIMEZONE
TZID:America/Los_Angeles
BEGIN:DAYLIGHT
TZOFFSETFROM:-0800
TZOFFSETTO:-0700
TZNAME:PDT
DTSTART:20190310T100000
END:DAYLIGHT
BEGIN:STANDARD
TZOFFSETFROM:-0700
TZOFFSETTO:-0800
TZNAME:PST
DTSTART:20191103T090000
END:STANDARD
BEGIN:DAYLIGHT
TZOFFSETFROM:-0800
TZOFFSETTO:-0700
TZNAME:PDT
DTSTART:20200308T100000
END:DAYLIGHT
BEGIN:STANDARD
TZOFFSETFROM:-0700
TZOFFSETTO:-0800
TZNAME:PST
DTSTART:20201101T090000
END:STANDARD
BEGIN:DAYLIGHT
TZOFFSETFROM:-0800
TZOFFSETTO:-0700
TZNAME:PDT
DTSTART:20210314T100000
END:DAYLIGHT
BEGIN:STANDARD
TZOFFSETFROM:-0700
TZOFFSETTO:-0800
TZNAME:PST
DTSTART:20211107T090000
END:STANDARD
END:VTIMEZONE
BEGIN:VEVENT
DTSTART;TZID=America/Los_Angeles:20200308T100000
DTEND;TZID=America/Los_Angeles:20200308T113000
DTSTAMP:20260424T085306
CREATED:20200221T014013Z
LAST-MODIFIED:20200221T014158Z
UID:22941-1583661600-1583667000@h-nt.org
SUMMARY:Essential Judaism: Jewish History Part I
DESCRIPTION:Essential Judaism in March:\nMarch 1: No Class\nMarch 8: Jewish History Part I – Biblical Period to the 20th century\nMarch 15: No Class\nMarch 22: Jewish History Part II – Zionism and the History of Israel\, the Holocaust\, and Israel in the Heart of the Jew\nMarch 29: Passover\, Omer\, Shavuot
URL:https://h-nt.org/calendar/essential-judaism-jewish-history-part-i/
LOCATION:Skolnick Board Room
CATEGORIES:Adult Education
END:VEVENT
END:VCALENDAR