BEGIN:VCALENDAR
VERSION:2.0
PRODID:-//HNT - ECPv6.15.20//NONSGML v1.0//EN
CALSCALE:GREGORIAN
METHOD:PUBLISH
X-ORIGINAL-URL:https://h-nt.org
X-WR-CALDESC:Events for HNT
REFRESH-INTERVAL;VALUE=DURATION:PT1H
X-Robots-Tag:noindex
X-PUBLISHED-TTL:PT1H
BEGIN:VTIMEZONE
TZID:America/Los_Angeles
BEGIN:DAYLIGHT
TZOFFSETFROM:-0800
TZOFFSETTO:-0700
TZNAME:PDT
DTSTART:20190310T100000
END:DAYLIGHT
BEGIN:STANDARD
TZOFFSETFROM:-0700
TZOFFSETTO:-0800
TZNAME:PST
DTSTART:20191103T090000
END:STANDARD
BEGIN:DAYLIGHT
TZOFFSETFROM:-0800
TZOFFSETTO:-0700
TZNAME:PDT
DTSTART:20200308T100000
END:DAYLIGHT
BEGIN:STANDARD
TZOFFSETFROM:-0700
TZOFFSETTO:-0800
TZNAME:PST
DTSTART:20201101T090000
END:STANDARD
BEGIN:DAYLIGHT
TZOFFSETFROM:-0800
TZOFFSETTO:-0700
TZNAME:PDT
DTSTART:20210314T100000
END:DAYLIGHT
BEGIN:STANDARD
TZOFFSETFROM:-0700
TZOFFSETTO:-0800
TZNAME:PST
DTSTART:20211107T090000
END:STANDARD
END:VTIMEZONE
BEGIN:VEVENT
DTSTART;TZID=America/Los_Angeles:20200322T100000
DTEND;TZID=America/Los_Angeles:20200322T113000
DTSTAMP:20260424T182002
CREATED:20200320T221328Z
LAST-MODIFIED:20200320T221614Z
UID:23050-1584871200-1584876600@h-nt.org
SUMMARY:Virtual Essential Judaism: Jewish History Part I
DESCRIPTION:Just as we have now migrated our services to a virtual format\, we are migrating all of our learning\, both in the Franklin Religious School\, and for adult education\, to a virtual format. \nThis week will start a two-session program on Jewish History. This week is the Biblical Period to the 20th century. If you would like to receive handouts ahead of time\, email RavBarry@h-nt.org. They will also be available from within Zoom. The link to join the class is: https://zoom.us/j/431313545
URL:https://h-nt.org/calendar/essential-judaism-jewish-history/
CATEGORIES:Adult Education
END:VEVENT
END:VCALENDAR