BEGIN:VCALENDAR
VERSION:2.0
PRODID:-//HNT - ECPv6.15.20//NONSGML v1.0//EN
CALSCALE:GREGORIAN
METHOD:PUBLISH
X-WR-CALNAME:HNT
X-ORIGINAL-URL:https://h-nt.org
X-WR-CALDESC:Events for HNT
REFRESH-INTERVAL;VALUE=DURATION:PT1H
X-Robots-Tag:noindex
X-PUBLISHED-TTL:PT1H
BEGIN:VTIMEZONE
TZID:America/Los_Angeles
BEGIN:DAYLIGHT
TZOFFSETFROM:-0800
TZOFFSETTO:-0700
TZNAME:PDT
DTSTART:20190310T100000
END:DAYLIGHT
BEGIN:STANDARD
TZOFFSETFROM:-0700
TZOFFSETTO:-0800
TZNAME:PST
DTSTART:20191103T090000
END:STANDARD
BEGIN:DAYLIGHT
TZOFFSETFROM:-0800
TZOFFSETTO:-0700
TZNAME:PDT
DTSTART:20200308T100000
END:DAYLIGHT
BEGIN:STANDARD
TZOFFSETFROM:-0700
TZOFFSETTO:-0800
TZNAME:PST
DTSTART:20201101T090000
END:STANDARD
BEGIN:DAYLIGHT
TZOFFSETFROM:-0800
TZOFFSETTO:-0700
TZNAME:PDT
DTSTART:20210314T100000
END:DAYLIGHT
BEGIN:STANDARD
TZOFFSETFROM:-0700
TZOFFSETTO:-0800
TZNAME:PST
DTSTART:20211107T090000
END:STANDARD
END:VTIMEZONE
BEGIN:VEVENT
DTSTART;TZID=America/Los_Angeles:20200426T100000
DTEND;TZID=America/Los_Angeles:20200426T113000
DTSTAMP:20260425T143140
CREATED:20200402T183337Z
LAST-MODIFIED:20200402T183337Z
UID:23107-1587895200-1587900600@h-nt.org
SUMMARY:Virtual Essential Judaism Class
DESCRIPTION:Sunday mornings at 10:00 AM\nApril schedule:\n• April 26 Lifecycle Part II Divorce\, Sickness\, aging\, death; Honor Your Father and Mother. Last class! \nIf you would like to receive handouts ahead of time\, email Rav Barry at ravbarry@h-nt.org. They will also be available from https://zoom.us/j/431313545
URL:https://h-nt.org/calendar/virtual-essential-judaism-class-3/
CATEGORIES:Adult Education
END:VEVENT
END:VCALENDAR