BEGIN:VCALENDAR
VERSION:2.0
PRODID:-//HNT - ECPv6.15.20//NONSGML v1.0//EN
CALSCALE:GREGORIAN
METHOD:PUBLISH
X-WR-CALNAME:HNT
X-ORIGINAL-URL:https://h-nt.org
X-WR-CALDESC:Events for HNT
REFRESH-INTERVAL;VALUE=DURATION:PT1H
X-Robots-Tag:noindex
X-PUBLISHED-TTL:PT1H
BEGIN:VTIMEZONE
TZID:America/Los_Angeles
BEGIN:DAYLIGHT
TZOFFSETFROM:-0800
TZOFFSETTO:-0700
TZNAME:PDT
DTSTART:20200308T100000
END:DAYLIGHT
BEGIN:STANDARD
TZOFFSETFROM:-0700
TZOFFSETTO:-0800
TZNAME:PST
DTSTART:20201101T090000
END:STANDARD
BEGIN:DAYLIGHT
TZOFFSETFROM:-0800
TZOFFSETTO:-0700
TZNAME:PDT
DTSTART:20210314T100000
END:DAYLIGHT
BEGIN:STANDARD
TZOFFSETFROM:-0700
TZOFFSETTO:-0800
TZNAME:PST
DTSTART:20211107T090000
END:STANDARD
BEGIN:DAYLIGHT
TZOFFSETFROM:-0800
TZOFFSETTO:-0700
TZNAME:PDT
DTSTART:20220313T100000
END:DAYLIGHT
BEGIN:STANDARD
TZOFFSETFROM:-0700
TZOFFSETTO:-0800
TZNAME:PST
DTSTART:20221106T090000
END:STANDARD
END:VTIMEZONE
BEGIN:VEVENT
DTSTART;TZID=America/Los_Angeles:20210205T094500
DTEND;TZID=America/Los_Angeles:20210205T101500
DTSTAMP:20260419T121857
CREATED:20210120T215406Z
LAST-MODIFIED:20210120T215406Z
UID:24960-1612518300-1612520100@h-nt.org
SUMMARY:Tot Shabbat
DESCRIPTION:https://www.facebook.com/sjccseattle/   \nJoin Dr. Krigel and Morah Chava on the SJCC Facebook page for an opportunity to sing\, dance\, move our bodies\, and participate together in welcoming Shabbat with joy and happiness. Babies\, parents\, and grandparents are welcome to participate remotely at home. Thanks to PJ Library at the Jewish Federation of Greater Seattle\, the SJCC\, and HNT for supporting this collaborative program. 
URL:https://h-nt.org/calendar/tot-shabbat-3/
CATEGORIES:Garinim & Shtilim
END:VEVENT
BEGIN:VEVENT
DTSTART;TZID=America/Los_Angeles:20210205T170000
DTEND;TZID=America/Los_Angeles:20210205T173000
DTSTAMP:20260419T121857
CREATED:20210120T215206Z
LAST-MODIFIED:20210120T215206Z
UID:24956-1612544400-1612546200@h-nt.org
SUMMARY:Zoom Noar
DESCRIPTION:Join FRS families to gather for Shabbat on Friday night for Zoom Noar. Noar means youth. This time on Friday nights from 5:00-5:30 is an opportunity to celebrate and begin Shabbat together. Invite Bubbe and Zayde and your extended family from across the world to participate. February 26th will be led by the Kindergarten class. Here is the link to join with the normal password on Zoom: https://us02web.zoom.us/j/9750526089   \nRSVP with this link: https://hnt.wufoo.com/forms/zoom-noar/  
URL:https://h-nt.org/calendar/zoom-noar-6/
CATEGORIES:Garinim & Shtilim
END:VEVENT
END:VCALENDAR