BEGIN:VCALENDAR
VERSION:2.0
PRODID:-//HNT - ECPv6.15.20//NONSGML v1.0//EN
CALSCALE:GREGORIAN
METHOD:PUBLISH
X-ORIGINAL-URL:https://h-nt.org
X-WR-CALDESC:Events for HNT
REFRESH-INTERVAL;VALUE=DURATION:PT1H
X-Robots-Tag:noindex
X-PUBLISHED-TTL:PT1H
BEGIN:VTIMEZONE
TZID:America/Los_Angeles
BEGIN:DAYLIGHT
TZOFFSETFROM:-0800
TZOFFSETTO:-0700
TZNAME:PDT
DTSTART:20200308T100000
END:DAYLIGHT
BEGIN:STANDARD
TZOFFSETFROM:-0700
TZOFFSETTO:-0800
TZNAME:PST
DTSTART:20201101T090000
END:STANDARD
BEGIN:DAYLIGHT
TZOFFSETFROM:-0800
TZOFFSETTO:-0700
TZNAME:PDT
DTSTART:20210314T100000
END:DAYLIGHT
BEGIN:STANDARD
TZOFFSETFROM:-0700
TZOFFSETTO:-0800
TZNAME:PST
DTSTART:20211107T090000
END:STANDARD
BEGIN:DAYLIGHT
TZOFFSETFROM:-0800
TZOFFSETTO:-0700
TZNAME:PDT
DTSTART:20220313T100000
END:DAYLIGHT
BEGIN:STANDARD
TZOFFSETFROM:-0700
TZOFFSETTO:-0800
TZNAME:PST
DTSTART:20221106T090000
END:STANDARD
END:VTIMEZONE
BEGIN:VEVENT
DTSTART;TZID=America/Los_Angeles:20210514T170000
DTEND;TZID=America/Los_Angeles:20210514T173000
DTSTAMP:20260422T135021
CREATED:20210429T201533Z
LAST-MODIFIED:20210429T201533Z
UID:25535-1621011600-1621013400@h-nt.org
SUMMARY:Zoom Noar
DESCRIPTION:May 14 Led by the Masa Social Justice Class . 5:00-5:30pm \nGather virtually to celebrate and begin Shabbat together with FRS families. On May 14 students in the current Masa class will present on social justice issues we have studied this year with Tzedek America. Invite Bubbe and Zayde and your extended family. \nPlease RSVP with this link: https://hnt.wufoo.com/forms/zoom-noar/ \nHere is the link to join Dr. Eliyahu Krigel with the normal password on Zoom: https://us02web.zoom.us/j/9750526089
URL:https://h-nt.org/calendar/zoom-noar-14/
CATEGORIES:Garinim & Shtilim
END:VEVENT
END:VCALENDAR