BEGIN:VCALENDAR
VERSION:2.0
PRODID:-//HNT - ECPv6.15.20//NONSGML v1.0//EN
CALSCALE:GREGORIAN
METHOD:PUBLISH
X-WR-CALNAME:HNT
X-ORIGINAL-URL:https://h-nt.org
X-WR-CALDESC:Events for HNT
REFRESH-INTERVAL;VALUE=DURATION:PT1H
X-Robots-Tag:noindex
X-PUBLISHED-TTL:PT1H
BEGIN:VTIMEZONE
TZID:America/Los_Angeles
BEGIN:DAYLIGHT
TZOFFSETFROM:-0800
TZOFFSETTO:-0700
TZNAME:PDT
DTSTART:20190310T100000
END:DAYLIGHT
BEGIN:STANDARD
TZOFFSETFROM:-0700
TZOFFSETTO:-0800
TZNAME:PST
DTSTART:20191103T090000
END:STANDARD
BEGIN:DAYLIGHT
TZOFFSETFROM:-0800
TZOFFSETTO:-0700
TZNAME:PDT
DTSTART:20200308T100000
END:DAYLIGHT
BEGIN:STANDARD
TZOFFSETFROM:-0700
TZOFFSETTO:-0800
TZNAME:PST
DTSTART:20201101T090000
END:STANDARD
BEGIN:DAYLIGHT
TZOFFSETFROM:-0800
TZOFFSETTO:-0700
TZNAME:PDT
DTSTART:20210314T100000
END:DAYLIGHT
BEGIN:STANDARD
TZOFFSETFROM:-0700
TZOFFSETTO:-0800
TZNAME:PST
DTSTART:20211107T090000
END:STANDARD
END:VTIMEZONE
BEGIN:VEVENT
DTSTART;TZID=America/Los_Angeles:20200927T090000
DTEND;TZID=America/Los_Angeles:20200927T094500
DTSTAMP:20260423T041630
CREATED:20200826T210305Z
LAST-MODIFIED:20200826T210305Z
UID:23957-1601197200-1601199900@h-nt.org
SUMMARY:Virtual Morning Minyan
DESCRIPTION:During this time when houses of worship in our state are not allowed to join together in person for prayer\, we have moved all of our prayer services to an online format. We form a minyan using two-way voice/video technology\, and conduct the full traditional service\, including an opportunity for people to say Kaddish. \nHow to Connect \n\nYou can join our Virtual Services on any desktop computer\, laptop\, tablet\, or smartphone at https://zoom.us/j/814064429.\n\nIf this is your first time using Zoom\, read through out How To Use Zoom guide. If you run into further problems\, please email Ashley@h-nt.org.\n\n\nYou can use a landline to have an audio-only connection by dialing +1669-900-6833\,\,814064429#\n\nIf you have a lot of background noise\, or are having a side conversation\, please mute yourself so we can limit distractions from the service.
URL:https://h-nt.org/calendar/virtual-morning-minyan-155/
CATEGORIES:Services
END:VEVENT
BEGIN:VEVENT
DTSTART;TZID=America/Los_Angeles:20200927T191500
DTEND;TZID=America/Los_Angeles:20200927T203000
DTSTAMP:20260423T041630
CREATED:20200827T005259Z
LAST-MODIFIED:20200827T005259Z
UID:24015-1601234100-1601238600@h-nt.org
SUMMARY:Kol Nidre Virtual Services
DESCRIPTION:Sermon: approximately 7:45 PM\nPlease note that the service end time is approximate. \nAccessing Virtual High Holiday Services \nThis year’s High Holiday services will be available on the HNT website homepage via YouTube Livestream. This one-way\, online platform broadcast is not unlike a professionally produced program you would watch on your TV or stream on your tablet or computer. At the service times listed\, visit h-nt.org/youtube\, or go to h-nt.org and click the High Holidays Livestream banner at the top of the page. \n  \nHigh Holiday Prayerbooks for a Virtual Experience \nIf you don’t own a Mahzor Lev Shalem to use at home for the High Holidays\, you may choose from the following options: \n\nPurchase a digital edition at https://issuu.com/books-rabbinicalassembly/docs/digital_mahzor/944?fr=sZTU5ZDE3MDIxNjY\nBorrow an HNT print edition at no cost. Supply is limited. Request at https://hnt.wufoo.com/forms/high-holiday-mahzor-prayerbook-borrowing-signup/\n\nIf you have questions or concerns\, please reach out to Melanie at MelanieM@h-nt.org.
URL:https://h-nt.org/calendar/kol-nidre-virtual-services/
CATEGORIES:Holiday Programming,Services
END:VEVENT
END:VCALENDAR