BEGIN:VCALENDAR
VERSION:2.0
PRODID:-//HNT - ECPv6.15.20//NONSGML v1.0//EN
CALSCALE:GREGORIAN
METHOD:PUBLISH
X-ORIGINAL-URL:https://h-nt.org
X-WR-CALDESC:Events for HNT
REFRESH-INTERVAL;VALUE=DURATION:PT1H
X-Robots-Tag:noindex
X-PUBLISHED-TTL:PT1H
BEGIN:VTIMEZONE
TZID:America/Los_Angeles
BEGIN:DAYLIGHT
TZOFFSETFROM:-0800
TZOFFSETTO:-0700
TZNAME:PDT
DTSTART:20200308T100000
END:DAYLIGHT
BEGIN:STANDARD
TZOFFSETFROM:-0700
TZOFFSETTO:-0800
TZNAME:PST
DTSTART:20201101T090000
END:STANDARD
BEGIN:DAYLIGHT
TZOFFSETFROM:-0800
TZOFFSETTO:-0700
TZNAME:PDT
DTSTART:20210314T100000
END:DAYLIGHT
BEGIN:STANDARD
TZOFFSETFROM:-0700
TZOFFSETTO:-0800
TZNAME:PST
DTSTART:20211107T090000
END:STANDARD
BEGIN:DAYLIGHT
TZOFFSETFROM:-0800
TZOFFSETTO:-0700
TZNAME:PDT
DTSTART:20220313T100000
END:DAYLIGHT
BEGIN:STANDARD
TZOFFSETFROM:-0700
TZOFFSETTO:-0800
TZNAME:PST
DTSTART:20221106T090000
END:STANDARD
END:VTIMEZONE
BEGIN:VEVENT
DTSTART;TZID=America/Los_Angeles:20210711T080000
DTEND;TZID=America/Los_Angeles:20210711T090000
DTSTAMP:20260422T110703
CREATED:20210602T182600Z
LAST-MODIFIED:20210602T182600Z
UID:25679-1625990400-1625994000@h-nt.org
SUMMARY:Virtual SummeRun & Walk for Ovarian Cancer Research
DESCRIPTION:Join in again virtually this year from anywhere in the world! Ovarian cancer doesn’t stop because of the coronavirus and our mission remains the same. Proceeds will support the life-saving work of the Rivkin Center\, a Seattle-based 501(c)(3) non-profit that works to save women’s lives by funding cutting-edge ovarian cancer research and providing ovarian and breast health education. Donate to our HNT Athletes team at h-nt.org/summerun.
URL:https://h-nt.org/calendar/virtual-summerun-walk-for-ovarian-cancer-research/
LOCATION:Washington
CATEGORIES:Social Action
END:VEVENT
BEGIN:VEVENT
DTSTART;TZID=America/Los_Angeles:20210711T100000
DTEND;TZID=America/Los_Angeles:20210711T103000
DTSTAMP:20260422T110703
CREATED:20210527T211331Z
LAST-MODIFIED:20210527T211331Z
UID:25613-1625997600-1625999400@h-nt.org
SUMMARY:Elizabeth Gregory Home Shelter Meal
DESCRIPTION:Monthly Second Sunday Lunch for 40 Women In Need \nThis facility acts as a permanent address for so many in need for social services\, job applications\, etc… as well as providing access to showers\, laundry\, computers\, and referrals for needed services. We provide a hot lunch for 40 which can be dropped off Friday afternoon or Sunday morning by 10:30 AM at the day center in the U District. Click here to participate by bringing a dish.
URL:https://h-nt.org/calendar/elizabeth-gregory-home-shelter-meal-7/
LOCATION:Washington
CATEGORIES:Social Action
END:VEVENT
BEGIN:VEVENT
DTSTART;TZID=America/Los_Angeles:20210711T170000
DTEND;TZID=America/Los_Angeles:20210711T173000
DTSTAMP:20260422T110703
CREATED:20210616T164545Z
LAST-MODIFIED:20210616T164545Z
UID:25700-1626022800-1626024600@h-nt.org
SUMMARY:CFH Shelter Meal
DESCRIPTION:As a member of Congregations for the Homeless\, which strives to mitigate the pain of homelessness by providing meals and basic needs\, HNT aspires to provide at least two monthly meals for 100 men. \nHow you can help: \n\nHelp prepare one or more dishes for the meal on July 11\, captained by Carol Michel & Carol Stockton\nThis is a great activity for families\, friends\, your book group\, or chavurah\, and HNT will provide organizational support. It’s all done potluck-style with food you can buy or make at home. Due to COVID-19 meals are currently contactless drop-off only. You choose the date that works for your group. Please email ShelterMeals@h-nt.org to volunteer to organize a group of friends to drop off a meal.
URL:https://h-nt.org/calendar/cfh-shelter-meal-27/
LOCATION:Washington
CATEGORIES:Social Action
END:VEVENT
BEGIN:VEVENT
DTSTART;TZID=America/Los_Angeles:20210725T170000
DTEND;TZID=America/Los_Angeles:20210725T173000
DTSTAMP:20260422T110703
CREATED:20210514T183057Z
LAST-MODIFIED:20210514T183057Z
UID:25563-1627232400-1627234200@h-nt.org
SUMMARY:Teen Feed
DESCRIPTION:Through the pandemic\, our Teen Feed leaders have been cooking meals for 80 in their homes\, but they’d love to have your help! Choose to make a main\, side\, or dessert for 70 in your home and drop off (contactless) at the home of this month’s Teen Feed leader. Email TeenFeed@h-nt.org for details and to sign up.
URL:https://h-nt.org/calendar/teen-feed-30/
LOCATION:Washington
CATEGORIES:Social Action
END:VEVENT
BEGIN:VEVENT
DTSTART;TZID=America/Los_Angeles:20210725T170000
DTEND;TZID=America/Los_Angeles:20210725T173000
DTSTAMP:20260422T110703
CREATED:20210607T180631Z
LAST-MODIFIED:20210607T180631Z
UID:25692-1627232400-1627234200@h-nt.org
SUMMARY:CFH Shelter Meal
DESCRIPTION:As a member of Congregations for the Homeless\, which strives to mitigate the pain of homelessness by providing meals and basic needs\, HNT aspires to provide at least two monthly meals for 100 men. \nHow you can help: \n\nHelp prepare one or more dishes for the meal on July 25\, captained by Julie Ellenhorn\nThis is a great activity for families\, friends\, your book group\, or chavurah\, and HNT will provide organizational support. It’s all done potluck-style with food you can buy or make at home. Due to COVID-19 meals are currently contactless drop-off only. You choose the date that works for your group. Please email ShelterMeals@h-nt.org to volunteer to organize a group of friends to drop off a meal.
URL:https://h-nt.org/calendar/cfh-shelter-meal-26/
LOCATION:Washington
CATEGORIES:Social Action
END:VEVENT
END:VCALENDAR