BEGIN:VCALENDAR
VERSION:2.0
PRODID:-//HNT - ECPv6.15.20//NONSGML v1.0//EN
CALSCALE:GREGORIAN
METHOD:PUBLISH
X-WR-CALNAME:HNT
X-ORIGINAL-URL:https://h-nt.org
X-WR-CALDESC:Events for HNT
REFRESH-INTERVAL;VALUE=DURATION:PT1H
X-Robots-Tag:noindex
X-PUBLISHED-TTL:PT1H
BEGIN:VTIMEZONE
TZID:America/Los_Angeles
BEGIN:DAYLIGHT
TZOFFSETFROM:-0800
TZOFFSETTO:-0700
TZNAME:PDT
DTSTART:20200308T100000
END:DAYLIGHT
BEGIN:STANDARD
TZOFFSETFROM:-0700
TZOFFSETTO:-0800
TZNAME:PST
DTSTART:20201101T090000
END:STANDARD
BEGIN:DAYLIGHT
TZOFFSETFROM:-0800
TZOFFSETTO:-0700
TZNAME:PDT
DTSTART:20210314T100000
END:DAYLIGHT
BEGIN:STANDARD
TZOFFSETFROM:-0700
TZOFFSETTO:-0800
TZNAME:PST
DTSTART:20211107T090000
END:STANDARD
BEGIN:DAYLIGHT
TZOFFSETFROM:-0800
TZOFFSETTO:-0700
TZNAME:PDT
DTSTART:20220313T100000
END:DAYLIGHT
BEGIN:STANDARD
TZOFFSETFROM:-0700
TZOFFSETTO:-0800
TZNAME:PST
DTSTART:20221106T090000
END:STANDARD
END:VTIMEZONE
BEGIN:VEVENT
DTSTART;TZID=America/Los_Angeles:20210905T170000
DTEND;TZID=America/Los_Angeles:20210905T173000
DTSTAMP:20260424T174952
CREATED:20210901T230243Z
LAST-MODIFIED:20210901T230243Z
UID:26254-1630861200-1630863000@h-nt.org
SUMMARY:CFH Shelter Meal
DESCRIPTION:As a member of Congregations for the Homeless\, which strives to mitigate the pain of homelessness by providing meals and basic needs\, HNT aspires to provide at least two monthly meals for 100 men. \nHow you can help: \n\nHelp prepare one or more dishes for the meal on September 5\, captained by Nathalie Bentov\nThis is a great activity for families\, friends\, your book group\, or chavurah\, and HNT will provide organizational support. It’s all done potluck-style with food you can buy or make at home. Due to COVID-19 meals are currently contactless drop-off only. You choose the date that works for your group. Please email ShelterMeals@h-nt.org to volunteer to organize a group of friends to drop off a meal.
URL:https://h-nt.org/calendar/cfh-shelter-meal-29/
LOCATION:Washington
CATEGORIES:Social Action
END:VEVENT
BEGIN:VEVENT
DTSTART;TZID=America/Los_Angeles:20210924T130000
DTEND;TZID=America/Los_Angeles:20210924T140000
DTSTAMP:20260424T174952
CREATED:20210709T200547Z
LAST-MODIFIED:20210709T200934Z
UID:25860-1632488400-1632492000@h-nt.org
SUMMARY:JFS High Holiday Food Drive-By
DESCRIPTION:Drop-Off in Bin Outside Upper Foyer: August 23 – September 26 Food Drive-By: Friday\, September 24\, 1:00 PM – 2:00 PM  \nOver 1\,300 households count on the Polack Food bank each month. Let’s work together to fill the food pantry shelves and provide families in need with healthy\, nutritious food options.   \n Please donate only the specific items JFS has requested: nut butters\, canned vegetables or fruit\, canned soup\, canned tomato\, canned tuna or chicken\, dried pasta\, toilet paper\, cereal\, oatmeal\, rice\, and kosher foods. Please no glass containers\, opened packaging\, perishable\, or expired foods. Acme Food Sales and the Estate of Valerie Polack are generously contributing a matching gift\, pound for pound. Drop off in the bin outside the Upper Foyer by September 26\, or stop by our drive-by on September 24 and volunteers will unload your trunk and give you a sweet treat to say thank you! \n We need many drivers to deliver our food donations to the JFS warehouse in Georgetown on September 26! Sign up at h-nt.org/volunteers. 
URL:https://h-nt.org/calendar/jfs-high-holiday-food-drive-by/
LOCATION:Washington
CATEGORIES:Social Action
END:VEVENT
BEGIN:VEVENT
DTSTART;TZID=America/Los_Angeles:20210926T100000
DTEND;TZID=America/Los_Angeles:20210926T110000
DTSTAMP:20260424T174952
CREATED:20210709T200831Z
LAST-MODIFIED:20210709T200831Z
UID:25853-1632650400-1632654000@h-nt.org
SUMMARY:JFS High Holiday Food Drive Delivery
DESCRIPTION:Over 1\,300 households count on the Polack Food bank each month. Let’s work together to fill the food pantry shelves and provide families in need with healthy\, nutritious food options.   \n Please donate only the specific items JFS has requested: nut butters\, canned vegetables or fruit\, canned soup\, canned tomato\, canned tuna or chicken\, dried pasta\, toilet paper\, cereal\, oatmeal\, rice\, and kosher foods. Please no glass containers\, opened packaging\, perishable\, or expired foods. Acme Food Sales and the Estate of Valerie Polack are generously contributing a matching gift\, pound for pound.  \n We need many drivers to deliver our food donations to the JFS warehouse in Georgetown on September 26! Sign up at h-nt.org/volunteers. 
URL:https://h-nt.org/calendar/jfs-high-holiday-food-drive-delivery/
LOCATION:Washington
CATEGORIES:Social Action
END:VEVENT
BEGIN:VEVENT
DTSTART;TZID=America/Los_Angeles:20210926T170000
DTEND;TZID=America/Los_Angeles:20210926T173000
DTSTAMP:20260424T174952
CREATED:20210901T231147Z
LAST-MODIFIED:20210901T231147Z
UID:26261-1632675600-1632677400@h-nt.org
SUMMARY:Teen Feed: Cook From Home
DESCRIPTION:Through the pandemic\, our Teen Feed leaders have been cooking meals for 80 in their homes\, but they’d love to have your help! Choose to make a main\, side\, or dessert for 80 in your home and drop off (contactless) at the home of this month’s Teen Feed leader.\nEmail TeenFeed@h-nt.org for details and to sign up.
URL:https://h-nt.org/calendar/teen-feed-cook-from-home/
LOCATION:Washington
CATEGORIES:Social Action
END:VEVENT
END:VCALENDAR