BEGIN:VCALENDAR
VERSION:2.0
PRODID:-//HNT - ECPv6.15.20//NONSGML v1.0//EN
CALSCALE:GREGORIAN
METHOD:PUBLISH
X-WR-CALNAME:HNT
X-ORIGINAL-URL:https://h-nt.org
X-WR-CALDESC:Events for HNT
REFRESH-INTERVAL;VALUE=DURATION:PT1H
X-Robots-Tag:noindex
X-PUBLISHED-TTL:PT1H
BEGIN:VTIMEZONE
TZID:America/Los_Angeles
BEGIN:DAYLIGHT
TZOFFSETFROM:-0800
TZOFFSETTO:-0700
TZNAME:PDT
DTSTART:20200308T100000
END:DAYLIGHT
BEGIN:STANDARD
TZOFFSETFROM:-0700
TZOFFSETTO:-0800
TZNAME:PST
DTSTART:20201101T090000
END:STANDARD
BEGIN:DAYLIGHT
TZOFFSETFROM:-0800
TZOFFSETTO:-0700
TZNAME:PDT
DTSTART:20210314T100000
END:DAYLIGHT
BEGIN:STANDARD
TZOFFSETFROM:-0700
TZOFFSETTO:-0800
TZNAME:PST
DTSTART:20211107T090000
END:STANDARD
BEGIN:DAYLIGHT
TZOFFSETFROM:-0800
TZOFFSETTO:-0700
TZNAME:PDT
DTSTART:20220313T100000
END:DAYLIGHT
BEGIN:STANDARD
TZOFFSETFROM:-0700
TZOFFSETTO:-0800
TZNAME:PST
DTSTART:20221106T090000
END:STANDARD
END:VTIMEZONE
BEGIN:VEVENT
DTSTART;TZID=America/Los_Angeles:20211107T170000
DTEND;TZID=America/Los_Angeles:20211107T173000
DTSTAMP:20260425T143734
CREATED:20211015T165321Z
LAST-MODIFIED:20211015T165321Z
UID:26582-1636304400-1636306200@h-nt.org
SUMMARY:CFH Shelter Meal
DESCRIPTION:As a member of Congregations for the Homeless\, which strives to mitigate the pain of homelessness by providing meals and basic needs\, HNT aspires to provide at least two monthly meals for 100 men. \nHow you can help: \n\nHelp prepare one or more dishes for the meal on November 7\, captained by FRS 2nd & 3rd Grade\nThis is a great activity for families\, friends\, your book group\, or chavurah\, and HNT will provide organizational support. It’s all done potluck-style with food you can buy or make at home. Due to COVID-19 meals are currently contactless drop-off only. You choose the date that works for your group. Please email ShelterMeals@h-nt.org to volunteer to organize a group of friends to drop off a meal.
URL:https://h-nt.org/calendar/cfh-shelter-meal-32/
LOCATION:Washington
CATEGORIES:Social Action
END:VEVENT
BEGIN:VEVENT
DTSTART;TZID=America/Los_Angeles:20211114T100000
DTEND;TZID=America/Los_Angeles:20211114T103000
DTSTAMP:20260425T143734
CREATED:20211015T165202Z
LAST-MODIFIED:20211015T165202Z
UID:26583-1636884000-1636885800@h-nt.org
SUMMARY:Elizabeth Gregory Home Shelter Meal
DESCRIPTION:Monthly Second Sunday Lunch for 25-30 Women In Need \nCaptained by Nadine Strauss \nThis facility acts as a permanent address for so many in need for social services\, job applications\, etc… as well as providing access to showers\, laundry\, computers\, and referrals for needed services. We provide a hot lunch for 25-30 which can be dropped off Friday afternoon or Sunday morning by 10:30 AM at the day center in the U District\, or arrange an earlier drop off with Nadine. Click here to participate by bringing a dish.
URL:https://h-nt.org/calendar/elizabeth-gregory-home-shelter-meal-10/
LOCATION:Washington
CATEGORIES:Social Action
END:VEVENT
BEGIN:VEVENT
DTSTART;TZID=America/Los_Angeles:20211121T170000
DTEND;TZID=America/Los_Angeles:20211121T173000
DTSTAMP:20260425T143734
CREATED:20211102T003323Z
LAST-MODIFIED:20211102T003323Z
UID:26760-1637514000-1637515800@h-nt.org
SUMMARY:CFH Shelter Meal
DESCRIPTION:As a member of Congregations for the Homeless\, which strives to mitigate the pain of homelessness by providing meals and basic needs\, HNT aspires to provide at least two monthly meals for 100 men. \nHow you can help: \n\nHelp prepare one or more dishes for the meal on November 21\, captained by Nathalie Bentov\nThis is a great activity for families\, friends\, your book group\, or chavurah\, and HNT will provide organizational support. It’s all done potluck-style with food you can buy or make at home. Due to COVID-19 meals are currently contactless drop-off only. You choose the date that works for your group. Please email ShelterMeals@h-nt.org to volunteer to organize a group of friends to drop off a meal.
URL:https://h-nt.org/calendar/cfh-shelter-meal-33/
LOCATION:Washington
CATEGORIES:Social Action
END:VEVENT
BEGIN:VEVENT
DTSTART;TZID=America/Los_Angeles:20211128T170000
DTEND;TZID=America/Los_Angeles:20211128T173000
DTSTAMP:20260425T143734
CREATED:20211028T161839Z
LAST-MODIFIED:20211028T161839Z
UID:26712-1638118800-1638120600@h-nt.org
SUMMARY:Teen Feed: Cook-At-Home Edition
DESCRIPTION:Through the pandemic\, our Teen Feed leaders and volunteers have been cooking meals for 80 in their homes\, and they’d love to have your help! Choose to make a main\, side\, or dessert for 80 in your home and drop off (contactless) at the home of this month’s Teen Feed leader. Email TeenFeed@h-nt.org for details and to sign up.
URL:https://h-nt.org/calendar/teen-feed-cook-at-home-edition-6/
LOCATION:Washington
CATEGORIES:Social Action
END:VEVENT
END:VCALENDAR