BEGIN:VCALENDAR
VERSION:2.0
PRODID:-//HNT - ECPv6.15.20//NONSGML v1.0//EN
CALSCALE:GREGORIAN
METHOD:PUBLISH
X-WR-CALNAME:HNT
X-ORIGINAL-URL:https://h-nt.org
X-WR-CALDESC:Events for HNT
REFRESH-INTERVAL;VALUE=DURATION:PT1H
X-Robots-Tag:noindex
X-PUBLISHED-TTL:PT1H
BEGIN:VTIMEZONE
TZID:America/Los_Angeles
BEGIN:DAYLIGHT
TZOFFSETFROM:-0800
TZOFFSETTO:-0700
TZNAME:PDT
DTSTART:20200308T100000
END:DAYLIGHT
BEGIN:STANDARD
TZOFFSETFROM:-0700
TZOFFSETTO:-0800
TZNAME:PST
DTSTART:20201101T090000
END:STANDARD
BEGIN:DAYLIGHT
TZOFFSETFROM:-0800
TZOFFSETTO:-0700
TZNAME:PDT
DTSTART:20210314T100000
END:DAYLIGHT
BEGIN:STANDARD
TZOFFSETFROM:-0700
TZOFFSETTO:-0800
TZNAME:PST
DTSTART:20211107T090000
END:STANDARD
BEGIN:DAYLIGHT
TZOFFSETFROM:-0800
TZOFFSETTO:-0700
TZNAME:PDT
DTSTART:20220313T100000
END:DAYLIGHT
BEGIN:STANDARD
TZOFFSETFROM:-0700
TZOFFSETTO:-0800
TZNAME:PST
DTSTART:20221106T090000
END:STANDARD
END:VTIMEZONE
BEGIN:VEVENT
DTSTART;VALUE=DATE:20210304
DTEND;VALUE=DATE:20210305
DTSTAMP:20260422T034344
CREATED:20210302T221951Z
LAST-MODIFIED:20210302T221951Z
UID:25099-1614816000-1614902399@h-nt.org
SUMMARY:Drawing To Support Frontline Workers - Deadline To Enter
DESCRIPTION:Enter to win by March 4 at h-nt.org/legacy \nProceeds of this drawing go to We Got This Seattle\, a nonprofit delivering meals to frontline workers (healthcare\, grocery\, fire\, police\, shelters\, and more)\, while supporting over 70 local restaurants. \nWith each $18 entry (with discounts for some larger bundles)\, you are entered to win any of the following:\n• Three-Night Getaway to Suncadia\, donated by Michelle & Bryan Kulp: Sleeps 14 and features chef’s kitchen\, home office\, private hot tub\, gas fire pit\, arcade game room\, and kid-friendly comforts\, plus access to a winery and two golf courses. Subject to availability\, no holiday weekends. No access to swim/fitness center. Must be used within one year (by March 14\, 2022).\n• 90-Minute Outdoor Family Photoshoot by Radman Photography within King County\, donated by Eric Radman. Subject to COVID restrictions.\n• Hand-Dyed Silk Vessel: a contemporary basket and one of a kind creation handcrafted and donated by Ricki Gafter\n• Local Artisan Mezuzot\, made and donated by Annie Marten\n• $180 Airbnb gift card\, donated by Executive Director’s Discretionary Fund\n• Meal for Two of Your Choice From HaMotzi To-Go
URL:https://h-nt.org/calendar/drawing-to-support-frontline-workers-deadline-to-enter/
LOCATION:Washington
CATEGORIES:Social Action
END:VEVENT
END:VCALENDAR