BEGIN:VCALENDAR
VERSION:2.0
PRODID:-//HNT - ECPv6.15.20//NONSGML v1.0//EN
CALSCALE:GREGORIAN
METHOD:PUBLISH
X-ORIGINAL-URL:https://h-nt.org
X-WR-CALDESC:Events for HNT
REFRESH-INTERVAL;VALUE=DURATION:PT1H
X-Robots-Tag:noindex
X-PUBLISHED-TTL:PT1H
BEGIN:VTIMEZONE
TZID:America/Los_Angeles
BEGIN:DAYLIGHT
TZOFFSETFROM:-0800
TZOFFSETTO:-0700
TZNAME:PDT
DTSTART:20200308T100000
END:DAYLIGHT
BEGIN:STANDARD
TZOFFSETFROM:-0700
TZOFFSETTO:-0800
TZNAME:PST
DTSTART:20201101T090000
END:STANDARD
BEGIN:DAYLIGHT
TZOFFSETFROM:-0800
TZOFFSETTO:-0700
TZNAME:PDT
DTSTART:20210314T100000
END:DAYLIGHT
BEGIN:STANDARD
TZOFFSETFROM:-0700
TZOFFSETTO:-0800
TZNAME:PST
DTSTART:20211107T090000
END:STANDARD
BEGIN:DAYLIGHT
TZOFFSETFROM:-0800
TZOFFSETTO:-0700
TZNAME:PDT
DTSTART:20220313T100000
END:DAYLIGHT
BEGIN:STANDARD
TZOFFSETFROM:-0700
TZOFFSETTO:-0800
TZNAME:PST
DTSTART:20221106T090000
END:STANDARD
END:VTIMEZONE
BEGIN:VEVENT
DTSTART;TZID=America/Los_Angeles:20211203T130000
DTEND;TZID=America/Los_Angeles:20211203T140000
DTSTAMP:20260425T071118
CREATED:20211015T165420Z
LAST-MODIFIED:20211026T220409Z
UID:26586-1638536400-1638540000@h-nt.org
SUMMARY:Winter Coat Drive-By
DESCRIPTION:Now Through December 5 \nCoat Drive-By: Friday\, December 3 • 1:00 PM – 2:00 PM & Sunday\, December 5 • 12:00 PM – 1:00 PM \nLeschi Elementary School (K-5th) wants to give each child in need a new coat as part of their Giving Garland program. ROOTS (Rising Out Of The Shadows) is a shelter for young adults\, many of whom have aged out of the foster system. Help us give these kids and young adults clothing to keep them warm this winter: \n\nGreatest need: kids-sized (2T and larger) new winter coats and adult-sized new or very gently used winter coats\nAlso appreciated: kids-sized new or gently used rain jackets\, new sweatpants with elastic waistbands\, socks and underwear; adult-sized new socks\, gloves\, and scarves\n\nPlease bring donations in your trunk on December 3rd or 5th and we will unload for you\, or drop off by the 5th in the red bins outside the upper foyer. Thank you for pre-bagging donations by child vs. adult sizes. \nNo time to shop? Email Rebecca@h-nt.org to make a donation by November 18 and volunteers will purchase coats on your behalf.
URL:https://h-nt.org/calendar/winter-coat-drive-by/
LOCATION:Washington
CATEGORIES:Social Action
END:VEVENT
END:VCALENDAR